BEGIN:VCALENDAR
VERSION:2.0
PRODID:-//Wisconsin Cancer Collaborative - ECPv6.15.20//NONSGML v1.0//EN
CALSCALE:GREGORIAN
METHOD:PUBLISH
X-ORIGINAL-URL:https://wicancer.org
X-WR-CALDESC:Events for Wisconsin Cancer Collaborative
REFRESH-INTERVAL;VALUE=DURATION:PT1H
X-Robots-Tag:noindex
X-PUBLISHED-TTL:PT1H
BEGIN:VTIMEZONE
TZID:America/Chicago
BEGIN:DAYLIGHT
TZOFFSETFROM:-0600
TZOFFSETTO:-0500
TZNAME:CDT
DTSTART:20250309T080000
END:DAYLIGHT
BEGIN:STANDARD
TZOFFSETFROM:-0500
TZOFFSETTO:-0600
TZNAME:CST
DTSTART:20251102T070000
END:STANDARD
BEGIN:DAYLIGHT
TZOFFSETFROM:-0600
TZOFFSETTO:-0500
TZNAME:CDT
DTSTART:20260308T080000
END:DAYLIGHT
BEGIN:STANDARD
TZOFFSETFROM:-0500
TZOFFSETTO:-0600
TZNAME:CST
DTSTART:20261101T070000
END:STANDARD
BEGIN:DAYLIGHT
TZOFFSETFROM:-0600
TZOFFSETTO:-0500
TZNAME:CDT
DTSTART:20270314T080000
END:DAYLIGHT
BEGIN:STANDARD
TZOFFSETFROM:-0500
TZOFFSETTO:-0600
TZNAME:CST
DTSTART:20271107T070000
END:STANDARD
END:VTIMEZONE
BEGIN:VEVENT
DTSTART;TZID=America/Chicago:20260310T090000
DTEND;TZID=America/Chicago:20260310T173000
DTSTAMP:20260421T030144
CREATED:20260120T203512Z
LAST-MODIFIED:20260120T203512Z
UID:16857-1773133200-1773163800@wicancer.org
SUMMARY:UW Carbone Cancer Center - 2026 Annual Research Retreat
DESCRIPTION:The University of Wisconsin Carbone Cancer Center invites researchers\, trainees\, industry partners\, and community members to join us for the 2026 Annual Cancer Research Retreat on March 10\, 2026 from 9:15AM-5:30PM at HSLC (UW-Madison campus). This one-day\, in-person event will bring together our diverse cancer research community to share scientific advances\, foster collaboration\, and engage in meaningful dialogue across disciplines. We look forward to welcoming you for a day of discovery\, connection\, and innovation in cancer research. \nVisit the 2026 UWCCC Research Retreat webpage for more information and to register.
URL:https://wicancer.org/event/uw-carbone-cancer-center-2026-annual-research-retreat/
END:VEVENT
BEGIN:VEVENT
DTSTART;TZID=America/Chicago:20260313T083000
DTEND;TZID=America/Chicago:20260313T140000
DTSTAMP:20260421T030144
CREATED:20260121T170214Z
LAST-MODIFIED:20260127T153812Z
UID:16868-1773390600-1773410400@wicancer.org
SUMMARY:American Cancer Society - Community Health Worker Seminar: Trust\, Truth\, and Action in Cancer Screening
DESCRIPTION:The American Cancer Society is hosting a Community Health Worker Seminar: Trust\, Truth\, and Action in Cancer Screening on Friday\, March 13\, 2026 from 9:00 am-2:00 pm. The event will take place at the King Community Room (2153 N Doctor M.L.K. Jr Dr\, Milwaukee\, WI 53212). \nParking is available at 320 W. Lloyd St\, Milwaukee\, WI 53212. \nRegistration is required. Please register here. (Registration is limited to 100 people!) \nA complimentary lunch will be provided. \nPlease share the program flyer with your networks!
URL:https://wicancer.org/event/american-cancer-society-community-health-worker-seminar-trust-truth-and-action-in-cancer-screening/
END:VEVENT
BEGIN:VEVENT
DTSTART;TZID=America/Chicago:20260321T090000
DTEND;TZID=America/Chicago:20260321T150000
DTSTAMP:20260421T030144
CREATED:20260128T184336Z
LAST-MODIFIED:20260226T212559Z
UID:16912-1774083600-1774105200@wicancer.org
SUMMARY:Milwaukee Consortium for Hmong Health - MCHH 8th Annual Conference
DESCRIPTION:The Milwaukee Consortium for Hmong Health (MCHH) will host their 8th Annual Health Conference on Saturday\, March 21\, 2026 from 9AM-3PM at Alverno College\, Sister Joel Read Conference Center (3400 S 43rd St\, Milwaukee\, WI 53219).\n\nThey provide the following health screenings or services for participants: \n\nClinical Breast Exams\nProstate Specific Antigen (PSA) screening\nBlood pressure/blood glucose\nHearing screening\nVision screening\nMemory Assessment\nVaccinations\n\n\nShare the program flyer! Also see link and MCHH social media pages for registration and future updates: Annual Conference Info
URL:https://wicancer.org/event/milwaukee-consortium-for-hmong-health-mchh-8th-annual-conference/
END:VEVENT
BEGIN:VEVENT
DTSTART;TZID=America/Chicago:20260323T120000
DTEND;TZID=America/Chicago:20260323T130000
DTSTAMP:20260421T030144
CREATED:20260312T182451Z
LAST-MODIFIED:20260312T182451Z
UID:17119-1774267200-1774270800@wicancer.org
SUMMARY:AICAF - Empowered by Knowledge: Taking Action Through Screening Webinar
DESCRIPTION:As part of AICAF’s Blue Beads Awareness Month\, this webinar on Monday\, March 23rd at 12-1PM features two expert panelists who will share how Cologuard works as a simple\, non-invasive option and provide trusted medical reinforcement on how taking action through screening can protect your health and future. \nRegister here!
URL:https://wicancer.org/event/aicaf-empowered-by-knowledge-taking-action-through-screening-webinar/
END:VEVENT
BEGIN:VEVENT
DTSTART;TZID=America/Chicago:20260324T120000
DTEND;TZID=America/Chicago:20260324T133000
DTSTAMP:20260421T030144
CREATED:20260226T210632Z
LAST-MODIFIED:20260226T210632Z
UID:16996-1774353600-1774359000@wicancer.org
SUMMARY:Triage Cancer - Steps to Navigate Common Insurance Hurdles
DESCRIPTION:Accessing health care can be challenging. This webinar\, hosted by Triage Cancer on March 24 from 12-1:30PM\, will provide tips to understand and overcome common barriers\, such as prior authorizations\, co-pay accumulators\, alternative funding plans\, step therapy\, coverage denials\, and more. \nRegister and learn more at: https://triagecancer.org/webinarreg-insurance-hurdles
URL:https://wicancer.org/event/triage-cancer-steps-to-navigate-common-insurance-hurdles/
END:VEVENT
BEGIN:VEVENT
DTSTART;TZID=America/Chicago:20260331T120000
DTEND;TZID=America/Chicago:20260331T130000
DTSTAMP:20260421T030144
CREATED:20260312T182611Z
LAST-MODIFIED:20260312T182611Z
UID:17121-1774958400-1774962000@wicancer.org
SUMMARY:AICAF - CRC Prevention: Simple Screening Guidance and Nutrition Support Webinar
DESCRIPTION:As part of AICAF’s Blue Beads Awareness Month\, this webinar on Tuesday\, March 31 at 12-1PM features Dr. Dorothy Rhoades\, Director of the Native America Center for Cancer Health Excellence. Dr. Rhoades will discuss CRC prevention efforts\, screening options and guidance\, key AI/AN data\, and more. \nRegister here!
URL:https://wicancer.org/event/aicaf-crc-prevention-simple-screening-guidance-and-nutrition-support-webinar/
END:VEVENT
END:VCALENDAR