BEGIN:VCALENDAR
VERSION:2.0
PRODID:-//Wisconsin Cancer Collaborative - ECPv6.15.20//NONSGML v1.0//EN
CALSCALE:GREGORIAN
METHOD:PUBLISH
X-WR-CALNAME:Wisconsin Cancer Collaborative
X-ORIGINAL-URL:https://wicancer.org
X-WR-CALDESC:Events for Wisconsin Cancer Collaborative
REFRESH-INTERVAL;VALUE=DURATION:PT1H
X-Robots-Tag:noindex
X-PUBLISHED-TTL:PT1H
BEGIN:VTIMEZONE
TZID:America/Chicago
BEGIN:DAYLIGHT
TZOFFSETFROM:-0600
TZOFFSETTO:-0500
TZNAME:CDT
DTSTART:20250309T080000
END:DAYLIGHT
BEGIN:STANDARD
TZOFFSETFROM:-0500
TZOFFSETTO:-0600
TZNAME:CST
DTSTART:20251102T070000
END:STANDARD
BEGIN:DAYLIGHT
TZOFFSETFROM:-0600
TZOFFSETTO:-0500
TZNAME:CDT
DTSTART:20260308T080000
END:DAYLIGHT
BEGIN:STANDARD
TZOFFSETFROM:-0500
TZOFFSETTO:-0600
TZNAME:CST
DTSTART:20261101T070000
END:STANDARD
BEGIN:DAYLIGHT
TZOFFSETFROM:-0600
TZOFFSETTO:-0500
TZNAME:CDT
DTSTART:20270314T080000
END:DAYLIGHT
BEGIN:STANDARD
TZOFFSETFROM:-0500
TZOFFSETTO:-0600
TZNAME:CST
DTSTART:20271107T070000
END:STANDARD
END:VTIMEZONE
BEGIN:VEVENT
DTSTART;TZID=America/Chicago:20260114T120000
DTEND;TZID=America/Chicago:20260114T130000
DTSTAMP:20260421T052841
CREATED:20251202T174202Z
LAST-MODIFIED:20251202T174202Z
UID:16787-1768392000-1768395600@wicancer.org
SUMMARY:ACS & RWHC - Closing the Cancer Gap: Prevention and Screening in Rural WI Webinar
DESCRIPTION:Join ACS and the Rural Wisconsin Health Cooperative (RWHC) for a webinar entitled Closing the Cancer Gap: Prevention and Screening in Rural WI will be held on January 14\, from 12-1PM CST. This webinar will highlight the RWHC Cancer Prevention Taskforce\, focusing on the work of two of their member organizations\, Crossing Rivers Health (Prairie du Chien) and Prairie Ridge Health (Columbus). Topics include what they are doing to increase cancer screening rates\, reduce screening disparities\, improve project participant quality measure scores\, and decrease target population mortality rates. They will share examples of their work\, along with wins and challenges along the way. \nRegister here: https://us06web.zoom.us/meeting/register/FC-dRBogQsG-8SmVqgHoyQ#/registration \nView and share the webinar flyer!
URL:https://wicancer.org/event/acs-rwhc-closing-the-cancer-gap-prevention-and-screening-in-rural-wi-webinar/
END:VEVENT
BEGIN:VEVENT
DTSTART;VALUE=DATE:20260126
DTEND;VALUE=DATE:20260131
DTSTAMP:20260421T052841
CREATED:20251218T190932Z
LAST-MODIFIED:20251218T190932Z
UID:16807-1769385600-1769817599@wicancer.org
SUMMARY:Global Initiative Against HPV and Cervical Cancer and the American Medical Women’s Association - 8th Annual Us vs. HPV Prevention Week
DESCRIPTION:The 8th Annual Us vs. HPV Prevention Week\, by the Global Initiative Against HPV and Cervical Cancer and the American Medical Women’s Association will be held January 26 – 30th\, 2026. \nThis year\, the week will celebrate significant global progress in HPV vaccination\, which prevents nearly 90% of six HPV-related cancers in all genders. Events will also showcase groundbreaking advancements in screening such as self-sampling and early treatment technologies aimed at eliminating cervical cancer—the first cancer we can end together. View the full agenda. \nRegister Today!
URL:https://wicancer.org/event/global-initiative-against-hpv-and-cervical-cancer-and-the-american-medical-womens-association-8th-annual-us-vs-hpv-prevention-week/
END:VEVENT
BEGIN:VEVENT
DTSTART;TZID=America/Chicago:20260129T180000
DTEND;TZID=America/Chicago:20260129T193000
DTSTAMP:20260421T052841
CREATED:20260120T203305Z
LAST-MODIFIED:20260120T203542Z
UID:16854-1769709600-1769715000@wicancer.org
SUMMARY:Gilda's Club - Frankly Speaking About Cancer (FSAC): Gynecologic Cancers Workshop
DESCRIPTION:This workshop\, hosted by Gilda’s Club Madison on Thursday\, Jan 29 from 6-7:30PM on Zoom\, is created for people diagnosed with gynecologic cancers. The materials educate patients on the types of gynecologic cancers\, potential treatments and side effects\, clinical trials\, and the emotional concerns of a gynecologic cancer diagnosis. \nKey Workshop Objectives include: \n\nHelp patients impacted by gynecologic cancers navigate diagnosis\, treatment\, and survivorship.\nBuild confidence\, access resources\, and connect with other patients facing similar challenges.\n\nFeatured speakers include: Dr. Michele Pipp-Dahm\, UW Health \nRegister at: GildasClubMadison.org/12926/ \nProgram Flyer
URL:https://wicancer.org/event/gildas-club-frankly-speaking-about-cancer-fsac-gynecologic-cancers-workshop/
END:VEVENT
END:VCALENDAR