BEGIN:VCALENDAR
VERSION:2.0
PRODID:-//Wisconsin Cancer Collaborative - ECPv6.15.20//NONSGML v1.0//EN
CALSCALE:GREGORIAN
METHOD:PUBLISH
X-ORIGINAL-URL:https://wicancer.org
X-WR-CALDESC:Events for Wisconsin Cancer Collaborative
REFRESH-INTERVAL;VALUE=DURATION:PT1H
X-Robots-Tag:noindex
X-PUBLISHED-TTL:PT1H
BEGIN:VTIMEZONE
TZID:America/Chicago
BEGIN:DAYLIGHT
TZOFFSETFROM:-0600
TZOFFSETTO:-0500
TZNAME:CDT
DTSTART:20240310T080000
END:DAYLIGHT
BEGIN:STANDARD
TZOFFSETFROM:-0500
TZOFFSETTO:-0600
TZNAME:CST
DTSTART:20241103T070000
END:STANDARD
BEGIN:DAYLIGHT
TZOFFSETFROM:-0600
TZOFFSETTO:-0500
TZNAME:CDT
DTSTART:20250309T080000
END:DAYLIGHT
BEGIN:STANDARD
TZOFFSETFROM:-0500
TZOFFSETTO:-0600
TZNAME:CST
DTSTART:20251102T070000
END:STANDARD
BEGIN:DAYLIGHT
TZOFFSETFROM:-0600
TZOFFSETTO:-0500
TZNAME:CDT
DTSTART:20260308T080000
END:DAYLIGHT
BEGIN:STANDARD
TZOFFSETFROM:-0500
TZOFFSETTO:-0600
TZNAME:CST
DTSTART:20261101T070000
END:STANDARD
END:VTIMEZONE
BEGIN:VEVENT
DTSTART;TZID=America/Chicago:20250506T080000
DTEND;TZID=America/Chicago:20250508T120000
DTSTAMP:20260420T162411
CREATED:20250422T125509Z
LAST-MODIFIED:20250422T125509Z
UID:15914-1746518400-1746705600@wicancer.org
SUMMARY:2025 Share the Care Indigenous Cancer Conference
DESCRIPTION:The Stockbridge-Munsee Community is proud to host the 21st annual Share the Care Indigenous Cancer Conference at the North Star Mohican Casino Resort from May 6-8\, 2025 (full agenda below).\n\nThis event is FREE and open to the community. Please register!\n\nSTC 2025 Informational Flyer 3.10.25\n\nConference topics include:\n\n\nFunctional nutrition\nThe role of genetics in cancer\nLung cancer\nTraditional healing\nSurvivorship and self-advocacy\n\n\nFind more conference details at: https://wicancer.org/STC25/
URL:https://wicancer.org/event/2025-share-the-care-indigenous-cancer-conference/
LOCATION:North Star Mohican Casino Resort\, W12180 Co Rd A\, Bowler\, WI\, 54416\, United States
END:VEVENT
BEGIN:VEVENT
DTSTART;TZID=America/Chicago:20250507T130000
DTEND;TZID=America/Chicago:20250507T140000
DTSTAMP:20260420T162411
CREATED:20250501T151721Z
LAST-MODIFIED:20250501T151721Z
UID:15950-1746622800-1746626400@wicancer.org
SUMMARY:ACS - Elevating Lung Cancer Screening Webcast
DESCRIPTION:Please join the American Lung Association on Wednesday\, May 7th at 1:00 pm CT for a webcast on elevating lung cancer screening in cancer control work. This webcast will review how current comprehensive cancer control plans address lung cancer screening and approaches to improve screening rates. We will be joined by a guest speaker from the Cancer Prevention & Research Institute of Texas to discuss how the recently updated Texas Cancer Plan addresses lung cancer screening\, as well as by a lung cancer patient advocate. \nRegister here: Microsoft Virtual Events Powered by Teams \nSpeakers: \n\nJacqueline Link\, Manager of Nationwide Health Policy\, American Lung Association\nHannah Green\, Senior Director of Nationwide Health Policy\, American Lung Association\nCarlton Allen\, Program Manager for Prevention\, Cancer Prevention & Research Institute of Texas\nDonnita Butler\, Patient Speaker\nMikayla Pittman\, Manager of Nationwide Health Promotions\, American Lung Association\n\nPlease reach out to Jacqueline.Link@lung.org or Olga.Bakun@lung.org with any questions.
URL:https://wicancer.org/event/acs-elevating-lung-cancer-screening-webcast/
END:VEVENT
BEGIN:VEVENT
DTSTART;TZID=America/Chicago:20250507T180000
DTEND;TZID=America/Chicago:20250507T193000
DTSTAMP:20260420T162411
CREATED:20250130T191845Z
LAST-MODIFIED:20250130T191845Z
UID:15189-1746640800-1746646200@wicancer.org
SUMMARY:Gilda's Club Madison - Caregivers Cancer Transitions Program (Session 4)
DESCRIPTION:Caregivers have their own unique\, yet often overlooked\, needs in survivorship. Each week we’ll meet as a group to hear presentations\, engage in discussion\, and together we will address the emotional and social hurdles faced during this transitional time. We will discuss medical care\, healthy lifestyle\, emotional support\, relationships\, and practical needs. \nThis program is designed to help you improve your quality of life by focusing on lifestyle skills and habits related to: \n\nRe-focusing on You\nHealth & Wellness\nEmotions & Relationships\nLooking into the Future – Session 4\n\n*Attendance at all 4 sessions is strongly recommended. \nLearn more and register: \n\nWednesdays\, April 16 to May 7 @ 6 – 7:30pm CT via Zoom
URL:https://wicancer.org/event/gildas-club-madison-caregivers-cancer-transitions-program-session-4/
END:VEVENT
BEGIN:VEVENT
DTSTART;TZID=America/Chicago:20250517T090000
DTEND;TZID=America/Chicago:20250517T130000
DTSTAMP:20260420T162411
CREATED:20250410T174656Z
LAST-MODIFIED:20250410T174656Z
UID:15855-1747472400-1747486800@wicancer.org
SUMMARY:Ascension Wisconsin - Cancer Survivorship Educational Health Fair
DESCRIPTION:Ascension Wisconsin’s Cancer Survivorship Educational Health Fair \nJoin Ascension Wisconsin as they celebrate National Cancer Survivor Day as a community (open to both Ascension and Non-Ascension patients) on May 17th\, 2025 at Ascension SE Wisconsin (201 N Mayfair Rd.\, Wauwatosa). Ascension Wisconsin aligns with the National Cancer Institute’s definition of a cancer survivor as “An individual is considered a cancer survivor from the time of diagnosis through the balance of life. There are many types of survivors\, including those living with cancer and those free of cancer.” As a National Cancer Survivor Day® event\, it is also a “celebration for those who have survived\, inspiration for those recently diagnosed\, a gathering of support for families and an outreach to the community.” There will be a wide variety of breakout sessions that you may attend if you are interested. Before\, during\, or after breakout sessions\, connect with community resources sharing information about various topics for all cancer types such as nutrition\, sexual health\, physical activity programs\, financial assistance\, and natural beauty products. Many will have free giveaways! A mocktail bar and food will be provided throughout the event. \nRegistration is not required but requested. See our information/registration page here for more details. Breakout agenda and flyer attached. \n2025 Guest speakers Agenda FINAL \nCancer Survivorship Educational Health Fair FINAL
URL:https://wicancer.org/event/ascension-wisconsin-cancer-survivorship-educational-health-fair/
END:VEVENT
BEGIN:VEVENT
DTSTART;TZID=America/Chicago:20250519T180000
DTEND;TZID=America/Chicago:20250519T190000
DTSTAMP:20260420T162411
CREATED:20250224T221145Z
LAST-MODIFIED:20250423T162511Z
UID:15692-1747677600-1747681200@wicancer.org
SUMMARY:Sheboygan County Immunization Coalition Healthcare Provider Training - BadgerTalks
DESCRIPTION:Please attend a free BadgerTalks on Monday\, May 19\, 2025 from 6 to 7 pm at Uptown Social. This event is hosted by Sheboygan County Immunization Coalition\, and is called “Don’t miss your shot: a compassionate approach to addressing vaccine hesitancy” by Dr. James\, Bigham\, MD\, MPH.\n\n\n*CEU’s for CMAs have been applied for*\n\nUptown Social – 1817 N 8th St\, Sheboygan\, WI 53081\n\nFor questions\, call Public Health at 920-459-3207 or email public.health@sheboygancounty.com\nFree event\, registration required through EventBrite: Click HERE to register.
URL:https://wicancer.org/event/sheboygan-county-immunization-coalition-healthcare-provider-training-badgertalsk/
LOCATION:Uptown Social\, 1817 N 8th St\, Sheboygan\, WI\, 53081\, United States
END:VEVENT
BEGIN:VEVENT
DTSTART;TZID=America/Chicago:20250529T120000
DTEND;TZID=America/Chicago:20250529T130000
DTSTAMP:20260420T162411
CREATED:20250423T210157Z
LAST-MODIFIED:20250423T210157Z
UID:15921-1748520000-1748523600@wicancer.org
SUMMARY:ACS/DHS - Preventing Mouth and Throat Cancers Webinar
DESCRIPTION:The American Cancer Society will be hosting a Preventing Mouth and Throat Cancers webinar on May 29th\, 2025 from 12-1PM CT. Presenters include Maeve Pell\, MPH from the Wisconsin Immunization Program\, Lacey Hellenbrand\, CHES from the Oral Health Program\, and Dr. Katharine Price\, MD from the Mayo Clinic. Participants will learn about Wisconsin rates of HPV cancers and HPV vaccination rates as well as the importance of preventing oropharyngeal cancers. Specific attention will be paid to actions oral health and medical professionals can take to prevent these cancers by promoting HPV vaccination. \nRegister Now : https://us06web.zoom.us/meeting/register/VZjcn125RkmmYCu4F3V2LA \nWebinar Flyer: May29thHPVwebinar
URL:https://wicancer.org/event/acs-dhs-preventing-mouth-and-throat-cancers-webinar/
END:VEVENT
END:VCALENDAR