BEGIN:VCALENDAR
VERSION:2.0
PRODID:-//Wisconsin Cancer Collaborative - ECPv6.15.20//NONSGML v1.0//EN
CALSCALE:GREGORIAN
METHOD:PUBLISH
X-WR-CALNAME:Wisconsin Cancer Collaborative
X-ORIGINAL-URL:https://wicancer.org
X-WR-CALDESC:Events for Wisconsin Cancer Collaborative
REFRESH-INTERVAL;VALUE=DURATION:PT1H
X-Robots-Tag:noindex
X-PUBLISHED-TTL:PT1H
BEGIN:VTIMEZONE
TZID:America/Chicago
BEGIN:DAYLIGHT
TZOFFSETFROM:-0600
TZOFFSETTO:-0500
TZNAME:CDT
DTSTART:20240310T080000
END:DAYLIGHT
BEGIN:STANDARD
TZOFFSETFROM:-0500
TZOFFSETTO:-0600
TZNAME:CST
DTSTART:20241103T070000
END:STANDARD
BEGIN:DAYLIGHT
TZOFFSETFROM:-0600
TZOFFSETTO:-0500
TZNAME:CDT
DTSTART:20250309T080000
END:DAYLIGHT
BEGIN:STANDARD
TZOFFSETFROM:-0500
TZOFFSETTO:-0600
TZNAME:CST
DTSTART:20251102T070000
END:STANDARD
BEGIN:DAYLIGHT
TZOFFSETFROM:-0600
TZOFFSETTO:-0500
TZNAME:CDT
DTSTART:20260308T080000
END:DAYLIGHT
BEGIN:STANDARD
TZOFFSETFROM:-0500
TZOFFSETTO:-0600
TZNAME:CST
DTSTART:20261101T070000
END:STANDARD
END:VTIMEZONE
BEGIN:VEVENT
DTSTART;TZID=America/Chicago:20250403T110000
DTEND;TZID=America/Chicago:20250403T123000
DTSTAMP:20260420T150220
CREATED:20250307T190517Z
LAST-MODIFIED:20250307T190545Z
UID:15755-1743678000-1743683400@wicancer.org
SUMMARY:ACS and Immunize VA - 2025 Coalition Collaboration: Shared Learnings for Increasing HPV Vaccination Rates 
DESCRIPTION:Please join ACS and Immunize VA for the second annual Coalition Collaboration webinar on April 3rd from 11am-12:30pm CST. The webinar will explore various efforts state immunization programs\, immunization coalitions and cancer coalitions are taking to increase HPV vaccination rates. HPV vaccination advocates will be presenting on promising practices from across the country\, to include: \n\n‘Starting at 9′ campaign\nCreating a Statewide HPV Action Plan\nIncluding oral health providers in HPV vaccination education and awareness\nLeveraging adolescent immunization dashboards\nImproving vaccination collaboration efforts\n\nRegistration Link: https://institutephi-org.zoom.us/meeting/register/9EC3UJnPSNq4e5Tdua1NjA#/registration \nCoalition Collaboration Webinar 4.3.25
URL:https://wicancer.org/event/acs-and-immunize-va-2025-coalition-collaboration-shared-learnings-for-increasing-hpv-vaccination-rates/
END:VEVENT
BEGIN:VEVENT
DTSTART;TZID=America/Chicago:20250406T120000
DTEND;TZID=America/Chicago:20250406T160000
DTSTAMP:20260420T150220
CREATED:20250318T174742Z
LAST-MODIFIED:20250318T174742Z
UID:15785-1743940800-1743955200@wicancer.org
SUMMARY:UW Carbone Cancer Center - Open House
DESCRIPTION:Join UW Health and UW Carbone Cancer Center’s open house on Sunday\, April 6\, 2025 from 12-4PM at the Health Sciences Learning Center. This is a FREE public event open to all ages. \nThe event will feature 20+ interactive displays and inflatables\, behind-the-scenes science lab tours\, cake and Babcock ice cream celebrating the 10-year anniversary of Breast Cancer Research\nAdvisory Network (BCRAN)\, live podcasting (Cancer Clear and Simple)\, and community presentations\, including: \n\nIn Due Season movie screening – Exploring the Medicaid Coverage Gap\nAsk Our Cancer Doctors Anything Panel\nBreast Cancer Panel: Learn How Researchers and Advocates Partner to Advance Science\n\nSee this website for more details or view the flyer below. \nCarbone Cancer Center Open House Flyer
URL:https://wicancer.org/event/uw-carbone-cancer-center-open-house/
LOCATION:Health Sciences Learning Center\, 750 Highland Ave\, Madison\, WI\, 53726\, United States
END:VEVENT
BEGIN:VEVENT
DTSTART;TZID=America/Chicago:20250409T120000
DTEND;TZID=America/Chicago:20250409T130000
DTSTAMP:20260420T150220
CREATED:20250328T200146Z
LAST-MODIFIED:20250328T200228Z
UID:15821-1744200000-1744203600@wicancer.org
SUMMARY:UW-CTRI - Adolescent Tobacco and Nicotine Product Use: An Update on Devices\, Trends\, Prevention\, and Treatment
DESCRIPTION:This webinar\, hosted by UW-CTRI on April 9 from 12-1pm\, will describe the latest trends in adolescent tobacco/nicotine use with a focus on the newest generation e-cigarettes\, pouches\, and how to help young people live free from nicotine addiction. This includes “smart” vapes. \nAt the end of this session\, attendees will be able to: \n\nDescribe the latest trends in nicotine product use amongst adolescents\nDescribe ways to engage young people in conversations about tobacco and nicotine\nProvide basic treatment and/or treatment referrals for individuals addicted to nicotine\n\nPresenter: Dr. Brian Williams is a clinical assistant professor at UW\, trained in both internal medicine and pediatrics. He works as a pediatric and adult hospitalist at UW Health and also spends time as a tobacco researcher at UW-CTRI. He enjoys helping inpatients of all ages at their times of need and he also has a passion for prevention. Dr. Williams’ tobacco research focuses on identifying and assessing treatment for young people who vape. He has been active in keeping up with the evolution of the e-cigarette marketplace and the changing trends in tobacco use. \nTo register: go.wisc.edu/45g02f \nFor more information: UW-CTRI April 9 Flyer
URL:https://wicancer.org/event/uw-ctri-adolescent-tobacco-and-nicotine-product-use-an-update-on-devices-trends-prevention-and-treatment/
ORGANIZER;CN="UW-CTRI":MAILTO:infoctri@ctri.wisc.edu
END:VEVENT
BEGIN:VEVENT
DTSTART;TZID=America/Chicago:20250416T180000
DTEND;TZID=America/Chicago:20250416T193000
DTSTAMP:20260420T150220
CREATED:20250130T191657Z
LAST-MODIFIED:20250130T191657Z
UID:15183-1744826400-1744831800@wicancer.org
SUMMARY:Gilda's Club Madison - Caregivers Cancer Transitions Program (Session 1)
DESCRIPTION:Caregivers have their own unique\, yet often overlooked\, needs in survivorship. Each week we’ll meet as a group to hear presentations\, engage in discussion\, and together we will address the emotional and social hurdles faced during this transitional time. We will discuss medical care\, healthy lifestyle\, emotional support\, relationships\, and practical needs. \nThis program is designed to help you improve your quality of life by focusing on lifestyle skills and habits related to: \n\nRe-focusing on You – Session 1\nHealth & Wellness\nEmotions & Relationships\nLooking into the Future\n\n*Attendance at all 4 sessions is strongly recommended. \nLearn more and register: \n\nWednesdays\, April 16 to May 7 @ 6 – 7:30pm CT via Zoom
URL:https://wicancer.org/event/gildas-club-madison-caregivers-cancer-transitions-program-session-1/
END:VEVENT
BEGIN:VEVENT
DTSTART;TZID=America/Chicago:20250423T180000
DTEND;TZID=America/Chicago:20250423T193000
DTSTAMP:20260420T150220
CREATED:20250130T191734Z
LAST-MODIFIED:20250130T191734Z
UID:15185-1745431200-1745436600@wicancer.org
SUMMARY:Gilda's Club Madison - Caregivers Cancer Transitions Program (Session 2)
DESCRIPTION:Caregivers have their own unique\, yet often overlooked\, needs in survivorship. Each week we’ll meet as a group to hear presentations\, engage in discussion\, and together we will address the emotional and social hurdles faced during this transitional time. We will discuss medical care\, healthy lifestyle\, emotional support\, relationships\, and practical needs. \nThis program is designed to help you improve your quality of life by focusing on lifestyle skills and habits related to: \n\nRe-focusing on You\nHealth & Wellness – Session 2\nEmotions & Relationships\nLooking into the Future\n\n*Attendance at all 4 sessions is strongly recommended. \nLearn more and register: \n\nWednesdays\, April 16 to May 7 @ 6 – 7:30pm CT via Zoom
URL:https://wicancer.org/event/gildas-club-madison-caregivers-cancer-transitions-program-session-2/
END:VEVENT
BEGIN:VEVENT
DTSTART;TZID=America/Chicago:20250424T080000
DTEND;TZID=America/Chicago:20250424T100000
DTSTAMP:20260420T150220
CREATED:20250411T193806Z
LAST-MODIFIED:20250411T193806Z
UID:15863-1745481600-1745488800@wicancer.org
SUMMARY:ACS - 2025 Virtual Forum Series (Clinical Trials)
DESCRIPTION:The American Cancer Society will be hosting a 2025 Virtual Forum Series. Each session will highlight local experts and explore the challenges and opportunities in cancer care through a panel discussion. The sessions will take place on select Thursdays from 8-10am CST and will once again provide two CMEs from the American Academy of Family Physicians. You may register for one or all of the sessions. \n\nClinical Trials – April 24th \nFood and Nutrition – July 10th\nImmunotherapy – September 18th\nRural Health – November 13th
URL:https://wicancer.org/event/acs-2025-virtual-forum-series-clinical-trials/
END:VEVENT
BEGIN:VEVENT
DTSTART;TZID=America/Chicago:20250424T120000
DTEND;TZID=America/Chicago:20250424T133000
DTSTAMP:20260420T150220
CREATED:20250121T225005Z
LAST-MODIFIED:20250121T225005Z
UID:15059-1745496000-1745501400@wicancer.org
SUMMARY:Triage Cancer - Understanding Your Disability Insurance Options
DESCRIPTION:On April 24\, 2025 at 12-1:30PM CST\, this webinar will explain disability insurance options when you have a serious medical condition and need to take time off from work. Learn about the process to apply\, application tips\, what to do if your claim is denied\, navigating benefits\, and other options for caregivers. \nCourse Level: Beginner \nRegister at: https://triagecancer.org/webinarreg-disability-insurance
URL:https://wicancer.org/event/triage-cancer-understanding-your-disability-insurance-options/
END:VEVENT
BEGIN:VEVENT
DTSTART;TZID=America/Chicago:20250425T080000
DTEND;TZID=America/Chicago:20250425T120000
DTSTAMP:20260420T150220
CREATED:20250210T222729Z
LAST-MODIFIED:20250210T223023Z
UID:15245-1745568000-1745582400@wicancer.org
SUMMARY:MCW - Cancer Disparities Symposium: Challenges in Cancer Care for Rural Communities
DESCRIPTION:The Medical College of Wisconsin will host their 5th annual Cancer Disparities Symposium\, covering the topic of Challenges in Cancer Care for Rural Communities. \nThe symposium will be held on Friday\, April 25 from 8:00 a.m. to 11:45 a.m. at the Italian Community Center in Milwaukee. The symposium is free\, but registration is required. This event is live with no virtual option. \nSee the attached flyer for more details\, and for more information and registration: https://ocpe.mcw.edu/medicine/node/226648#group-tabs-node-course-default1 \nFINAL 2025 Cancer Disparities Brochure
URL:https://wicancer.org/event/mcw-cancer-disparities-symposium-challenges-in-cancer-care-for-rural-communities/
LOCATION:Italian Community Center\, 631 E Chicago St\, Milwaukee\, WI\, 53202
END:VEVENT
BEGIN:VEVENT
DTSTART;TZID=America/Chicago:20250425T093000
DTEND;TZID=America/Chicago:20250425T150000
DTSTAMP:20260420T150220
CREATED:20250307T184714Z
LAST-MODIFIED:20250307T184714Z
UID:15748-1745573400-1745593200@wicancer.org
SUMMARY:ACS - 2025 Cancer Seminar for Community Health Workers
DESCRIPTION:Presented by the American Cancer Society and Kohl’s\, please attend the 2025 Cancer Seminar for Community Health Workers at the Zoofari Conference Center on Friday\, April 25th from 9:30am-3pm. \nParticipants will have the opportunity to learn valuable skills and recommended best practices\, network with other passionate community health workers\, and gain valuable insights to better serve the community. Advance registration is required. Please note that seating is not assigned and will be available on a first come\, first serve basis. \nComplimentary lunch will be provided. Attire is business casual. Free parking is available. The event will occur rain or shine. \nYour registration serves as consent that your photograph can be taken at the event. To view our privacy policy\, click here. \n2025 CHW Cancer Seminar Promo Flyer
URL:https://wicancer.org/event/acs-2025-cancer-seminar-for-community-health-workers/
END:VEVENT
BEGIN:VEVENT
DTSTART;TZID=America/Chicago:20250426T103000
DTEND;TZID=America/Chicago:20250426T130000
DTSTAMP:20260420T150220
CREATED:20250328T195648Z
LAST-MODIFIED:20250328T200458Z
UID:15804-1745663400-1745672400@wicancer.org
SUMMARY:Gilda's Club Madison - Hereditary Cancer: Causes\, Clues\, & a Call to Action
DESCRIPTION:Gilda’s Club Madison\, in partnership with the Genetic Support Foundation\, are excited to host a workshop open to the public called Hereditary Cancer: Causes\, Clues\, & a Call to Action (in both English and Spanish) on Saturday\, April 26th from 10:30am-1pm. \nKatia Vine\, a genetic counselor from the Genetic Support Foundation\, will provide an overview of genetic counselors\, explaining their role and expertise. She will also differentiate between hereditary and sporadic cancers\, discuss when it’s appropriate to consult a genetic counselor\, and outline what to expect during a genetic counseling appointment. \nEvent Schedule: \n\n10:30-11:30am – Presentation in English\n11:30am-12:15pm – Lunch for All\n12:15-1pm – Presentation in Spanish\n\nRegister at: https://events.gildasclubmadison.org/Events/Info/Cancer_and_Genetics_PUBLIC-4791 \nSpread the word using these flyers: Flyer (English) and Flyer (Spanish)
URL:https://wicancer.org/event/gildas-club-madison-hereditary-cancer-causes-clues-a-call-to-action/
END:VEVENT
BEGIN:VEVENT
DTSTART;TZID=America/Chicago:20250430T180000
DTEND;TZID=America/Chicago:20250430T193000
DTSTAMP:20260420T150220
CREATED:20250130T191811Z
LAST-MODIFIED:20250130T191811Z
UID:15187-1746036000-1746041400@wicancer.org
SUMMARY:Gilda's Club Madison - Caregivers Cancer Transitions Program (Session 3)
DESCRIPTION:Caregivers have their own unique\, yet often overlooked\, needs in survivorship. Each week we’ll meet as a group to hear presentations\, engage in discussion\, and together we will address the emotional and social hurdles faced during this transitional time. We will discuss medical care\, healthy lifestyle\, emotional support\, relationships\, and practical needs. \nThis program is designed to help you improve your quality of life by focusing on lifestyle skills and habits related to: \n\nRe-focusing on You\nHealth & Wellness\nEmotions & Relationships – Session 3\nLooking into the Future\n\n*Attendance at all 4 sessions is strongly recommended. \nLearn more and register: \n\nWednesdays\, April 16 to May 7 @ 6 – 7:30pm CT via Zoom
URL:https://wicancer.org/event/gildas-club-madison-caregivers-cancer-transitions-program-session-3/
END:VEVENT
END:VCALENDAR