BEGIN:VCALENDAR
VERSION:2.0
PRODID:-//Wisconsin Cancer Collaborative - ECPv6.15.20//NONSGML v1.0//EN
CALSCALE:GREGORIAN
METHOD:PUBLISH
X-ORIGINAL-URL:https://wicancer.org
X-WR-CALDESC:Events for Wisconsin Cancer Collaborative
REFRESH-INTERVAL;VALUE=DURATION:PT1H
X-Robots-Tag:noindex
X-PUBLISHED-TTL:PT1H
BEGIN:VTIMEZONE
TZID:America/Chicago
BEGIN:DAYLIGHT
TZOFFSETFROM:-0600
TZOFFSETTO:-0500
TZNAME:CDT
DTSTART:20240310T080000
END:DAYLIGHT
BEGIN:STANDARD
TZOFFSETFROM:-0500
TZOFFSETTO:-0600
TZNAME:CST
DTSTART:20241103T070000
END:STANDARD
BEGIN:DAYLIGHT
TZOFFSETFROM:-0600
TZOFFSETTO:-0500
TZNAME:CDT
DTSTART:20250309T080000
END:DAYLIGHT
BEGIN:STANDARD
TZOFFSETFROM:-0500
TZOFFSETTO:-0600
TZNAME:CST
DTSTART:20251102T070000
END:STANDARD
BEGIN:DAYLIGHT
TZOFFSETFROM:-0600
TZOFFSETTO:-0500
TZNAME:CDT
DTSTART:20260308T080000
END:DAYLIGHT
BEGIN:STANDARD
TZOFFSETFROM:-0500
TZOFFSETTO:-0600
TZNAME:CST
DTSTART:20261101T070000
END:STANDARD
END:VTIMEZONE
BEGIN:VEVENT
DTSTART;TZID=America/Chicago:20250204T120000
DTEND;TZID=America/Chicago:20250204T133000
DTSTAMP:20260420T120857
CREATED:20241211T175220Z
LAST-MODIFIED:20241211T175220Z
UID:14857-1738670400-1738675800@wicancer.org
SUMMARY:Gilda's Club Madison - Coping with Cancer (5 Week Series - Session 5)
DESCRIPTION:Gilda’s Club Madison Coping with Cancer – 5 Week Virtual Series \nTuesdays: Jan 7\, 14\, 21\, and 28\, and Feb 4 from 12-1:30pm via Zoom \n\n\nJoin Gilda’s Club Madison to learn practical tools to manage the challenge of life with cancer and cope even in the darkest days. This 5-week curriculum includes: \n\nSteadying yourself in the face of common cancer concerns\nMaking complicated decisions under stress\nManaging powerful emotions without being overwhelmed\nNavigating relationships with love ones\, colleagues and health care professionals\nFinding ways to live meaningfully with cancer\n\n\nThe group is facilitated by author of Coping with Cancer\, Elizabeth Cohn Stutz\, LCSW\, Ronda Reitz\, PhD\, and Kirsten Norslien\, MS\, LPC. \nRegistration is required – call 608-828-8880 or visit this link.
URL:https://wicancer.org/event/gildas-club-madison-coping-with-cancer-5-week-series-session-5/
END:VEVENT
BEGIN:VEVENT
DTSTART;TZID=America/Chicago:20250205T140000
DTEND;TZID=America/Chicago:20250205T150000
DTSTAMP:20260420T120857
CREATED:20250109T195835Z
LAST-MODIFIED:20250109T195835Z
UID:14928-1738764000-1738767600@wicancer.org
SUMMARY:ACS - Public Awareness Strategies to Promote Colorectal Cancer Screening
DESCRIPTION:Jumpstart the new year with fresh ideas by learning how four diverse community organizations and health systems developed innovative public awareness strategies to promote timely colorectal cancer screening in the communities they serve. Note: this session will feature much of the same content shared in a concurrent session held on Thursday\, November 21st at the 2024 ACS NCCRT Annual Meeting. \nSpeakers: \n\nMark Kennedy\, MBA\, Boston Public Health Commission​\nNathan Merriman\, MD\, MSCE\, Intermountain Health​\nDavid Russo\, Cheeky Charity​\nLaToya Brave Heart\, MPH\, Great Plains Tribal Leader’s Health Board\n\nRegistration is free and is open to NCCRT members\, 80% Pledge partners\, CDC grantees\, ACS and ACS CAN staff\, and other partners working to increase colorectal cancer screening rates. Pre-registration is required. \nRegister at: https://zoom.us/webinar/register/WN_zH3alGdUSuSA7nkQWKa10A#/registration
URL:https://wicancer.org/event/acs-public-awareness-strategies-to-promote-colorectal-cancer-screening/
END:VEVENT
BEGIN:VEVENT
DTSTART;TZID=America/Chicago:20250208T090000
DTEND;TZID=America/Chicago:20250208T120000
DTSTAMP:20260420T120857
CREATED:20250114T183407Z
LAST-MODIFIED:20250114T183407Z
UID:15013-1739005200-1739016000@wicancer.org
SUMMARY:Tricia's Troops Cancer Connection - Survivorship Wellness Sampler
DESCRIPTION:Tricia’s Troops Cancer Connection will be doing an event around the time of World Cancer Day and World Cancer Prevention Month focused on a sample of each of the components of Project Connect: healthy eating\, active living\, stress management and social connection. See flyer for more details.\n\nFlyer for Project Connect Sampler\n\n\nThe event takes place on Saturday\, February 8th 2025 from 9 am-12 pm at Tricia’s Troops Cancer Connection\, located on 2140 Milwaukee St. #C\, Delafield\, WI\, 53018. To sign up\, visit: https://www.signupgenius.com/go/8050C4AAFAD22ABF49-54375142-survivorship
URL:https://wicancer.org/event/tricias-troops-cancer-connection-survivorship-wellness-sampler/
LOCATION:Tricia’s Troops Cancer Connection\, 2140 Milwaukee St. #C\, Delafield\, WI\, 53018\, United States
ORGANIZER;CN="Tricia's Troops Cancer Connection":MAILTO:candi@triciastroops.org
END:VEVENT
BEGIN:VEVENT
DTSTART;TZID=America/Chicago:20250208T100000
DTEND;TZID=America/Chicago:20250208T140000
DTSTAMP:20260420T120857
CREATED:20250114T182909Z
LAST-MODIFIED:20250207T194619Z
UID:15009-1739008800-1739023200@wicancer.org
SUMMARY:PHMDC - School Vaccination Clinics (Madison\, WI)
DESCRIPTION:February 8\, 2025 (Saturday) from 10:00am to 2:00pm: Holtzman Learning Center (333 Holtzman Rd\, Madison) \nIn partnership with SSM Health\, GHC\, UW-Health\, Madison Metropolitan School District\, Sun Prairie Area School District\, and Verona Area School District: \n\nThe vaccines are free.\nFor school aged kids 5 and older.\nAppointments are strongly recommended.\n\nThey can vaccinate you if you: \n\nDo not have insurance\nAre under 19 and are Alaskan Native or American Indian\nHave BadgerCare\nHave Quartz\, GHC\, or Dean insurance\n\n\nSchool Vaccination Clinics | Public Health Madison & Dane County
URL:https://wicancer.org/event/madison-wi-school-vaccination-clinics/
LOCATION:Holtzman Learning Center\, 333 Holtzman Road\, Madison\, Wisconsin
END:VEVENT
BEGIN:VEVENT
DTSTART;TZID=America/Chicago:20250211T120000
DTEND;TZID=America/Chicago:20250211T130000
DTSTAMP:20260420T120857
CREATED:20250130T173134Z
LAST-MODIFIED:20250130T173134Z
UID:15146-1739275200-1739278800@wicancer.org
SUMMARY:ACS - Genetic Risk and Knowing Your Family History Webinar
DESCRIPTION:This virtual webinar on February 11\, 2025 at 12PM\, hosted by ACS\, will cover topics including:\n\nWhat is familial cancer?\nWhat does a genetic counselor do?\nWhen should you seek genetic testing?\nGenetic testing and your insurance?\n\n\nKeynote Speaker: Jennifer Geurts\, MS\, CGC \nDirector\, Genetic Counseling Program; Assistant Professor\, Institute for Health & Equity\, Medical College of Wisconsin \n\nTo register: Meeting Registration – Zoom
URL:https://wicancer.org/event/acs-genetic-risk-and-knowing-your-family-history-webinar/
END:VEVENT
BEGIN:VEVENT
DTSTART;TZID=America/Chicago:20250219T180000
DTEND;TZID=America/Chicago:20250219T190000
DTSTAMP:20260420T120857
CREATED:20250130T190408Z
LAST-MODIFIED:20250130T190825Z
UID:15148-1739988000-1739991600@wicancer.org
SUMMARY:Gilda's Club Madison - Young Adult Cancer Transitions Program (Session 1)
DESCRIPTION:This edition of Cancer Transitions is designed specifically to address the needs of young adults (ages 18-45). From navigating “new normal”\, to relationships\, school/work\, meaning making and medical followup – this program covers so much. There is also time to set goals and make positive changes. \nTopics include: \n\nTaking Control in Survivorship – Session 1\nEmotions & Relationships\nSurvivorship in Action\nMedical Management in Survivorship\n\nLearn more and register: \n\nWednesdays\, February to 19 to March 12 @ 6-7pm CT via Zoom
URL:https://wicancer.org/event/gildas-club-young-adult-transitions-program-session-1/
END:VEVENT
BEGIN:VEVENT
DTSTART;TZID=America/Chicago:20250226T180000
DTEND;TZID=America/Chicago:20250226T190000
DTSTAMP:20260420T120857
CREATED:20250130T190445Z
LAST-MODIFIED:20250130T190833Z
UID:15150-1740592800-1740596400@wicancer.org
SUMMARY:Gilda's Club Madison - Young Adult Cancer Transitions Program (Session 2)
DESCRIPTION:This edition of Cancer Transitions is designed specifically to address the needs of young adults (ages 18-45). From navigating “new normal”\, to relationships\, school/work\, meaning making and medical followup – this program covers so much. There is also time to set goals and make positive changes. \nTopics include: \n\nTaking Control in Survivorship\nEmotions & Relationships – Session 2\nSurvivorship in Action\nMedical Management in Survivorship\n\nLearn more and register: \n\nWednesdays\, February to 19 to March 12 @ 6-7pm CT via Zoom
URL:https://wicancer.org/event/gildas-club-young-adult-transitions-program-session-2/
END:VEVENT
END:VCALENDAR