BEGIN:VCALENDAR
VERSION:2.0
PRODID:-//Wisconsin Cancer Collaborative - ECPv6.15.20//NONSGML v1.0//EN
CALSCALE:GREGORIAN
METHOD:PUBLISH
X-ORIGINAL-URL:https://wicancer.org
X-WR-CALDESC:Events for Wisconsin Cancer Collaborative
REFRESH-INTERVAL;VALUE=DURATION:PT1H
X-Robots-Tag:noindex
X-PUBLISHED-TTL:PT1H
BEGIN:VTIMEZONE
TZID:America/Chicago
BEGIN:DAYLIGHT
TZOFFSETFROM:-0600
TZOFFSETTO:-0500
TZNAME:CDT
DTSTART:20230312T080000
END:DAYLIGHT
BEGIN:STANDARD
TZOFFSETFROM:-0500
TZOFFSETTO:-0600
TZNAME:CST
DTSTART:20231105T070000
END:STANDARD
BEGIN:DAYLIGHT
TZOFFSETFROM:-0600
TZOFFSETTO:-0500
TZNAME:CDT
DTSTART:20240310T080000
END:DAYLIGHT
BEGIN:STANDARD
TZOFFSETFROM:-0500
TZOFFSETTO:-0600
TZNAME:CST
DTSTART:20241103T070000
END:STANDARD
BEGIN:DAYLIGHT
TZOFFSETFROM:-0600
TZOFFSETTO:-0500
TZNAME:CDT
DTSTART:20250309T080000
END:DAYLIGHT
BEGIN:STANDARD
TZOFFSETFROM:-0500
TZOFFSETTO:-0600
TZNAME:CST
DTSTART:20251102T070000
END:STANDARD
END:VTIMEZONE
BEGIN:VEVENT
DTSTART;TZID=America/Chicago:20240716T110000
DTEND;TZID=America/Chicago:20240716T123000
DTSTAMP:20260420T110310
CREATED:20231211T174009Z
LAST-MODIFIED:20231211T174009Z
UID:13684-1721127600-1721133000@wicancer.org
SUMMARY:Triage Health: Understanding Your Rights at Work
DESCRIPTION:Triage Health: Understanding Your Rights at Work | Webinar Registration\nThis webinar discusses managing work after a diagnosis\, including how to continue working during treatment\, take time off\, replace lost income\, understand retirement options\, and navigate the health insurance and financial implications of each decision. \nJuly 16\, 2024 \n9am PT / 11am CT /12pm ET\nDuration: 90 minutes\nCourse Level: Beginner
URL:https://wicancer.org/event/triage-health-understanding-your-rights-at-work/
LOCATION:Webinar/Web Conference
END:VEVENT
END:VCALENDAR