BEGIN:VCALENDAR
VERSION:2.0
PRODID:-//Wisconsin Cancer Collaborative - ECPv6.15.20//NONSGML v1.0//EN
CALSCALE:GREGORIAN
METHOD:PUBLISH
X-ORIGINAL-URL:https://wicancer.org
X-WR-CALDESC:Events for Wisconsin Cancer Collaborative
REFRESH-INTERVAL;VALUE=DURATION:PT1H
X-Robots-Tag:noindex
X-PUBLISHED-TTL:PT1H
BEGIN:VTIMEZONE
TZID:America/Chicago
BEGIN:DAYLIGHT
TZOFFSETFROM:-0600
TZOFFSETTO:-0500
TZNAME:CDT
DTSTART:20230312T080000
END:DAYLIGHT
BEGIN:STANDARD
TZOFFSETFROM:-0500
TZOFFSETTO:-0600
TZNAME:CST
DTSTART:20231105T070000
END:STANDARD
BEGIN:DAYLIGHT
TZOFFSETFROM:-0600
TZOFFSETTO:-0500
TZNAME:CDT
DTSTART:20240310T080000
END:DAYLIGHT
BEGIN:STANDARD
TZOFFSETFROM:-0500
TZOFFSETTO:-0600
TZNAME:CST
DTSTART:20241103T070000
END:STANDARD
BEGIN:DAYLIGHT
TZOFFSETFROM:-0600
TZOFFSETTO:-0500
TZNAME:CDT
DTSTART:20250309T080000
END:DAYLIGHT
BEGIN:STANDARD
TZOFFSETFROM:-0500
TZOFFSETTO:-0600
TZNAME:CST
DTSTART:20251102T070000
END:STANDARD
END:VTIMEZONE
BEGIN:VEVENT
DTSTART;TZID=America/Chicago:20240110T180000
DTEND;TZID=America/Chicago:20240110T190000
DTSTAMP:20260420T175824
CREATED:20231003T135226Z
LAST-MODIFIED:20231003T135523Z
UID:13304-1704909600-1704913200@wicancer.org
SUMMARY:Freshstart Smoking Cessation Program - Winter 2024
DESCRIPTION:Register Here: https://www.aurorahealthcare.org/classes-events/freshstart-smoking-cessation-program-online-through-aurora-health-care
URL:https://wicancer.org/event/freshstart-smoking-cessation-program-winter-2024/
LOCATION:Webinar/Web Conference
END:VEVENT
BEGIN:VEVENT
DTSTART;TZID=America/Chicago:20240117T180000
DTEND;TZID=America/Chicago:20240117T190000
DTSTAMP:20260420T175824
CREATED:20231003T135251Z
LAST-MODIFIED:20231003T135601Z
UID:13306-1705514400-1705518000@wicancer.org
SUMMARY:Freshstart Smoking Cessation Program - Winter 2024
DESCRIPTION:Register Here: https://www.aurorahealthcare.org/classes-events/freshstart-smoking-cessation-program-online-through-aurora-health-care
URL:https://wicancer.org/event/freshstart-smoking-cessation-program-winter-2024-2/
LOCATION:Webinar/Web Conference
END:VEVENT
BEGIN:VEVENT
DTSTART;TZID=America/Chicago:20240118T120000
DTEND;TZID=America/Chicago:20240118T130000
DTSTAMP:20260420T175824
CREATED:20231219T155048Z
LAST-MODIFIED:20231219T155048Z
UID:13708-1705579200-1705582800@wicancer.org
SUMMARY:Why Policy? Why Now? Using your voice to bring change.
DESCRIPTION:Join AICAF and the American Cancer Society Cancer Action Network on Thursday\, January 18\, 2024\, for a #TurquoiseThursday webinar! \nThis session will be all about empowering tribal leaders\, cancer care providers\, business leaders\, and others to share their story and advocate for public policy solutions that can support patients\, prevent cancer\, advance research\, and more. Attendees do not need to understand the political process or policy work.
URL:https://wicancer.org/event/why-policy-why-now-using-your-voice-to-bring-change/
LOCATION:Webinar/Web Conference
END:VEVENT
BEGIN:VEVENT
DTSTART;TZID=America/Chicago:20240118T120000
DTEND;TZID=America/Chicago:20240118T130000
DTSTAMP:20260420T175824
CREATED:20240116T173312Z
LAST-MODIFIED:20240116T173312Z
UID:13753-1705579200-1705582800@wicancer.org
SUMMARY:Strategies for Improving HPV Vaccination Rates
DESCRIPTION:NFID.org will host a webinar titled Strategies for Improving HPV Vaccination Rates\, 1:00–2:00 p.m. (ET) on January 18. NFID Medical Director Robert (Bob) H. Hopkins\, Jr.\, MD\,  will moderate the webinar with presentations by Cassandra (Sandy) Pingali\, MS\, MPH\, CDC epidemiologist\, and Sherri Zorn\, MD\, pediatric physician-quality improvement coach\, Washington State HPV Free Task Force. Kimberly Williams\, chief diversity equity and inclusion officer at Cervivor\, will also share her personal story as a cervical cancer survivor. CME credit is available. \nThere is no fee to participate in this activity\, but preregistration is required. \nRegister for the webinar.
URL:https://wicancer.org/event/strategies-for-improving-hpv-vaccination-rates/
LOCATION:Webinar/Web Conference
END:VEVENT
BEGIN:VEVENT
DTSTART;TZID=America/Chicago:20240122T110000
DTEND;TZID=America/Chicago:20240122T120000
DTSTAMP:20260420T175824
CREATED:20231113T122132Z
LAST-MODIFIED:20231113T122132Z
UID:13552-1705921200-1705924800@wicancer.org
SUMMARY:2024 Us vs. HPV Prevention Week\, January 22-26
DESCRIPTION:The 2024 Us vs. HPV webinar series will take place from January 22-26. The webinars are intended for health care providers\, parents\, patients\, community leaders\, women’s health advocates\, students\, young leaders\, and the public. People of all genders can benefit from these talks. At the end of each session\, a live panel discussion will be hosted to answer audience questions. Click here to register. \nPLEASE NOTE: Wednesday January 24th is from 10AM-11:30AM \nMonday: 12:00—1:00 pm EST HPV Vaccine Update \nTuesday: 12:00—1:00 pm EST Diversifying Us vs. HPV \nWednesday: 10:00-11:30 am EST It’s Up to Us: Race to End Cervical Cancer \nThursday: 12:00—1:00 pm EST HPV and Oropharyngeal Cancer \nFriday: 12:00—1:00 pm EST Young Leaders Community Empowerment
URL:https://wicancer.org/event/2024-us-vs-hpv-prevention-week-january-22-26/
LOCATION:Webinar/Web Conference
END:VEVENT
BEGIN:VEVENT
DTSTART;TZID=America/Chicago:20240123T100000
DTEND;TZID=America/Chicago:20240123T110000
DTSTAMP:20260420T175824
CREATED:20231212T192340Z
LAST-MODIFIED:20231212T192340Z
UID:13695-1706004000-1706007600@wicancer.org
SUMMARY:Advance Care Planning: It’s About the Conversation
DESCRIPTION:EVENT DETAILS\n\nRegistration Link: https://us02web.zoom.us/webinar/register/WN_M2CS3ThqQQiuH0FXTGNWiw \nThis one-hour session will teach participants about advance care planning. Advance Care Planning is a process of understanding\, reflecting on\, and discussing future medical decisions regarding of age and current health status. All adults should think about\, discuss and create an advance care plan. Having an advance care plan is truly a gift for yourself and others. \nThe session will cover:\n• What is advance care planning\n• Why an advance care plan is important\n• Steps to creating an advance care plan\n• How to communicate your wishes with your family\, friends and healthcare provider \nHandouts on the topic will be available for participants at the end of the session. \n*Note: Advance Directive forms will be provided but will NOT be completed during the session. Information on where and how to complete this document will be covered during the discussion.
URL:https://wicancer.org/event/advance-care-planning-its-about-the-conversation-4/
LOCATION:Webinar/Web Conference
END:VEVENT
BEGIN:VEVENT
DTSTART;TZID=America/Chicago:20240123T110000
DTEND;TZID=America/Chicago:20240123T120000
DTSTAMP:20260420T175824
CREATED:20231113T122200Z
LAST-MODIFIED:20231113T122200Z
UID:13555-1706007600-1706011200@wicancer.org
SUMMARY:2024 Us vs. HPV Prevention Week\, January 22-26
DESCRIPTION:The 2024 Us vs. HPV webinar series will take place from January 22-26. The webinars are intended for health care providers\, parents\, patients\, community leaders\, women’s health advocates\, students\, young leaders\, and the public. People of all genders can benefit from these talks. At the end of each session\, a live panel discussion will be hosted to answer audience questions. Click here to register. \nPLEASE NOTE: Wednesday January 24th is from 10AM-11:30AM \nMonday: 12:00—1:00 pm EST HPV Vaccine Update \nTuesday: 12:00—1:00 pm EST Diversifying Us vs. HPV \nWednesday: 10:00-11:30 am EST It’s Up to Us: Race to End Cervical Cancer \nThursday: 12:00—1:00 pm EST HPV and Oropharyngeal Cancer \nFriday: 12:00—1:00 pm EST Young Leaders Community Empowerment
URL:https://wicancer.org/event/2024-us-vs-hpv-prevention-week-january-22-26-2/
LOCATION:Webinar/Web Conference
END:VEVENT
BEGIN:VEVENT
DTSTART;TZID=America/Chicago:20240123T110000
DTEND;TZID=America/Chicago:20240123T170000
DTSTAMP:20260420T175824
CREATED:20231211T161015Z
LAST-MODIFIED:20231211T161015Z
UID:13667-1706007600-1706029200@wicancer.org
SUMMARY:Cervical Cancer Screening Webinar: State of the Science
DESCRIPTION:
URL:https://wicancer.org/event/cervical-cancer-screening-webinar-state-of-the-science/
LOCATION:Webinar/Web Conference
END:VEVENT
BEGIN:VEVENT
DTSTART;TZID=America/Chicago:20240123T120000
DTEND;TZID=America/Chicago:20240123T133000
DTSTAMP:20260420T175824
CREATED:20231211T173342Z
LAST-MODIFIED:20231211T173342Z
UID:13672-1706011200-1706016600@wicancer.org
SUMMARY:Understanding Health Insurance
DESCRIPTION:This webinar will present key tips for navigating health insurance\, including considerations to make when comparing plans and how to minimize out-of-pocket costs. \nJanuary 30\, 2024 \n10am PT / 12pm CT / 1pm ET\nDuration: 90 minutes\nCourse Level: Beginner
URL:https://wicancer.org/event/understanding-health-insurance/
END:VEVENT
BEGIN:VEVENT
DTSTART;TZID=America/Chicago:20240123T130000
DTEND;TZID=America/Chicago:20240123T140000
DTSTAMP:20260420T175824
CREATED:20231120T141427Z
LAST-MODIFIED:20231120T141427Z
UID:13617-1706014800-1706018400@wicancer.org
SUMMARY:Understanding and Optimizing Social Support Across the Cancer Care Continuum
DESCRIPTION:Tuesday\, January 23\, 2024 1:00 PM – 2:00 PM\n(UTC-06:00) Central Time (US & Canada)\n\n\n\nRegister for webinar\nIf you want to attend\, register now. When your registration is approved\, you’ll receive an invitation to join the webinar. \n\n\n\n\nAgenda\nJoin the NCI Office of Cancer Survivorship (OCS) for this OCS Director’s Series webinar on January 23. Dr. Elizabeth Bouchard will present Understanding and Optimizing Social Support Across the Cancer Care Continuum. \nSpeaker:\nElizabeth Bouchard\, PhD\, MA\nProfessor of Oncology\nSenior Vice President and Associate Director\nCommunity Outreach and Engagement\nRoswell Park Comprehensive Cancer Center \nIntended Audience: Researchers\, advocates\, clinicians\, and policy makers interested in cancer survivorship.
URL:https://wicancer.org/event/understanding-and-optimizing-social-support-across-the-cancer-care-continuum/
LOCATION:Webinar/Web Conference
END:VEVENT
BEGIN:VEVENT
DTSTART;TZID=America/Chicago:20240124T090000
DTEND;TZID=America/Chicago:20240124T103000
DTSTAMP:20260420T175824
CREATED:20231113T122236Z
LAST-MODIFIED:20231113T122236Z
UID:13557-1706086800-1706092200@wicancer.org
SUMMARY:2024 Us vs. HPV Prevention Week\, January 22-26
DESCRIPTION:The 2024 Us vs. HPV webinar series will take place from January 22-26. The webinars are intended for health care providers\, parents\, patients\, community leaders\, women’s health advocates\, students\, young leaders\, and the public. People of all genders can benefit from these talks. At the end of each session\, a live panel discussion will be hosted to answer audience questions. Click here to register. \nPLEASE NOTE: Wednesday January 24th is from 10AM-11:30AM \nMonday: 12:00—1:00 pm EST HPV Vaccine Update \nTuesday: 12:00—1:00 pm EST Diversifying Us vs. HPV \nWednesday: 10:00-11:30 am EST It’s Up to Us: Race to End Cervical Cancer \nThursday: 12:00—1:00 pm EST HPV and Oropharyngeal Cancer \nFriday: 12:00—1:00 pm EST Young Leaders Community Empowerment
URL:https://wicancer.org/event/2024-us-vs-hpv-prevention-week-january-22-26-3/
LOCATION:Webinar/Web Conference
END:VEVENT
BEGIN:VEVENT
DTSTART;TZID=America/Chicago:20240124T180000
DTEND;TZID=America/Chicago:20240124T190000
DTSTAMP:20260420T175824
CREATED:20231003T135313Z
LAST-MODIFIED:20231003T135622Z
UID:13308-1706119200-1706122800@wicancer.org
SUMMARY:Freshstart Smoking Cessation Program - Winter 2024
DESCRIPTION:Register Here: https://www.aurorahealthcare.org/classes-events/freshstart-smoking-cessation-program-online-through-aurora-health-care
URL:https://wicancer.org/event/freshstart-smoking-cessation-program-winter-2024-3/
LOCATION:Webinar/Web Conference
END:VEVENT
BEGIN:VEVENT
DTSTART;TZID=America/Chicago:20240125T110000
DTEND;TZID=America/Chicago:20240125T120000
DTSTAMP:20260420T175824
CREATED:20231113T122302Z
LAST-MODIFIED:20231113T122302Z
UID:13559-1706180400-1706184000@wicancer.org
SUMMARY:2024 Us vs. HPV Prevention Week\, January 22-26
DESCRIPTION:The 2024 Us vs. HPV webinar series will take place from January 22-26. The webinars are intended for health care providers\, parents\, patients\, community leaders\, women’s health advocates\, students\, young leaders\, and the public. People of all genders can benefit from these talks. At the end of each session\, a live panel discussion will be hosted to answer audience questions. Click here to register. \nPLEASE NOTE: Wednesday January 24th is from 10AM-11:30AM \nMonday: 12:00—1:00 pm EST HPV Vaccine Update \nTuesday: 12:00—1:00 pm EST Diversifying Us vs. HPV \nWednesday: 10:00-11:30 am EST It’s Up to Us: Race to End Cervical Cancer \nThursday: 12:00—1:00 pm EST HPV and Oropharyngeal Cancer \nFriday: 12:00—1:00 pm EST Young Leaders Community Empowerment
URL:https://wicancer.org/event/2024-us-vs-hpv-prevention-week-january-22-26-4/
LOCATION:Webinar/Web Conference
END:VEVENT
BEGIN:VEVENT
DTSTART;TZID=America/Chicago:20240126T110000
DTEND;TZID=America/Chicago:20240126T120000
DTSTAMP:20260420T175824
CREATED:20231113T122318Z
LAST-MODIFIED:20231113T122318Z
UID:13561-1706266800-1706270400@wicancer.org
SUMMARY:2024 Us vs. HPV Prevention Week\, January 22-26
DESCRIPTION:The 2024 Us vs. HPV webinar series will take place from January 22-26. The webinars are intended for health care providers\, parents\, patients\, community leaders\, women’s health advocates\, students\, young leaders\, and the public. People of all genders can benefit from these talks. At the end of each session\, a live panel discussion will be hosted to answer audience questions. Click here to register. \nPLEASE NOTE: Wednesday January 24th is from 10AM-11:30AM \nMonday: 12:00—1:00 pm EST HPV Vaccine Update \nTuesday: 12:00—1:00 pm EST Diversifying Us vs. HPV \nWednesday: 10:00-11:30 am EST It’s Up to Us: Race to End Cervical Cancer \nThursday: 12:00—1:00 pm EST HPV and Oropharyngeal Cancer \nFriday: 12:00—1:00 pm EST Young Leaders Community Empowerment
URL:https://wicancer.org/event/2024-us-vs-hpv-prevention-week-january-22-26-5/
LOCATION:Webinar/Web Conference
END:VEVENT
BEGIN:VEVENT
DTSTART;TZID=America/Chicago:20240131T180000
DTEND;TZID=America/Chicago:20240131T190000
DTSTAMP:20260420T175824
CREATED:20231003T135332Z
LAST-MODIFIED:20231003T135643Z
UID:13310-1706724000-1706727600@wicancer.org
SUMMARY:Freshstart Smoking Cessation Program - Winter 2024
DESCRIPTION:Register Here: https://www.aurorahealthcare.org/classes-events/freshstart-smoking-cessation-program-online-through-aurora-health-care
URL:https://wicancer.org/event/freshstart-smoking-cessation-program-winter-2024-4/
LOCATION:Webinar/Web Conference
END:VEVENT
END:VCALENDAR