BEGIN:VCALENDAR
VERSION:2.0
PRODID:-//Wisconsin Cancer Collaborative - ECPv6.15.20//NONSGML v1.0//EN
CALSCALE:GREGORIAN
METHOD:PUBLISH
X-ORIGINAL-URL:https://wicancer.org
X-WR-CALDESC:Events for Wisconsin Cancer Collaborative
REFRESH-INTERVAL;VALUE=DURATION:PT1H
X-Robots-Tag:noindex
X-PUBLISHED-TTL:PT1H
BEGIN:VTIMEZONE
TZID:America/Chicago
BEGIN:DAYLIGHT
TZOFFSETFROM:-0600
TZOFFSETTO:-0500
TZNAME:CDT
DTSTART:20220313T080000
END:DAYLIGHT
BEGIN:STANDARD
TZOFFSETFROM:-0500
TZOFFSETTO:-0600
TZNAME:CST
DTSTART:20221106T070000
END:STANDARD
BEGIN:DAYLIGHT
TZOFFSETFROM:-0600
TZOFFSETTO:-0500
TZNAME:CDT
DTSTART:20230312T080000
END:DAYLIGHT
BEGIN:STANDARD
TZOFFSETFROM:-0500
TZOFFSETTO:-0600
TZNAME:CST
DTSTART:20231105T070000
END:STANDARD
BEGIN:DAYLIGHT
TZOFFSETFROM:-0600
TZOFFSETTO:-0500
TZNAME:CDT
DTSTART:20240310T080000
END:DAYLIGHT
BEGIN:STANDARD
TZOFFSETFROM:-0500
TZOFFSETTO:-0600
TZNAME:CST
DTSTART:20241103T070000
END:STANDARD
END:VTIMEZONE
BEGIN:VEVENT
DTSTART;TZID=America/Chicago:20231205T180000
DTEND;TZID=America/Chicago:20231205T193000
DTSTAMP:20260420T191901
CREATED:20230131T181327Z
LAST-MODIFIED:20230131T181327Z
UID:12242-1701799200-1701804600@wicancer.org
SUMMARY:Green Bay Support Group for Kids with a Loved One Going Through Cancer
DESCRIPTION:HSHS St. Vincent Hospital in Green Bay recently started a free support group for kids ages 5-12 who have a loved one going through cancer. This is open to people in the area\, regardless of where they receive their care. This occurs the first Tuesday of every month from 6-7:30 pm at HSHS St. Vincent Hospital. \n \nHSHS Youth Cancer Support Group Flyer 2
URL:https://wicancer.org/event/green-bay-support-group-for-kids-with-a-loved-one-going-through-cancer-10/
LOCATION:HSHS St. Vincent’s Hospital\, Green Bay\, WI
END:VEVENT
BEGIN:VEVENT
DTSTART;TZID=America/Chicago:20231206T130000
DTEND;TZID=America/Chicago:20231206T141500
DTSTAMP:20260420T191901
CREATED:20231003T141040Z
LAST-MODIFIED:20231003T141040Z
UID:13333-1701867600-1701872100@wicancer.org
SUMMARY:Pursuing Patient Navigation Policy Landscape
DESCRIPTION:Patient Navigation is a proven evidenced-based intervention contributing to the reduction of health care disparities and the improvement of health equity across the cancer care continuum. Yet sustainability of oncology patient navigation programs remains a challenge. The ACS National Navigation Roundtable is hosting a Call to Action webinar series examining barriers\, standards\, and sustainability of oncology patient navigation. \n\nPursuing Patient Navigation Policy Landscape on Thursday\, December 6\, 2023 from 2:00 pm – 3:15 pm ET\n\nRegistration: https://us02web.zoom.us/webinar/register/WN_fU_TNUa1S4yS8RYgCCEbag#/registration
URL:https://wicancer.org/event/pursuing-patient-navigation-policy-landscape/
LOCATION:Webinar/Web Conference
END:VEVENT
BEGIN:VEVENT
DTSTART;TZID=America/Chicago:20231214T130000
DTEND;TZID=America/Chicago:20231214T140000
DTSTAMP:20260420T191901
CREATED:20231211T160549Z
LAST-MODIFIED:20231211T160549Z
UID:13662-1702558800-1702562400@wicancer.org
SUMMARY:Comprehensive Plans\, Zoning\, and the Intersection with Commercial Tobacco Regulation
DESCRIPTION:This Public Health Law Center webinar on December 14 at 1:00 pm (CST) will focus on the importance of comprehensive planning and zoning as a platform for advancing commercial tobacco regulation. Center staff attorney Rachel Chambers will describe the components of comprehensive planning and provide an overview of zoning\, how zoning can relate to comprehensive planning\, and how these mechanisms can empower communities to advance commercial tobacco regulation. Learn more and register.
URL:https://wicancer.org/event/comprehensive-plans-zoning-and-the-intersection-with-commercial-tobacco-regulation/
LOCATION:Webinar/Web Conference
END:VEVENT
END:VCALENDAR