BEGIN:VCALENDAR
VERSION:2.0
PRODID:-//Wisconsin Cancer Collaborative - ECPv6.15.20//NONSGML v1.0//EN
CALSCALE:GREGORIAN
METHOD:PUBLISH
X-ORIGINAL-URL:https://wicancer.org
X-WR-CALDESC:Events for Wisconsin Cancer Collaborative
REFRESH-INTERVAL;VALUE=DURATION:PT1H
X-Robots-Tag:noindex
X-PUBLISHED-TTL:PT1H
BEGIN:VTIMEZONE
TZID:America/Chicago
BEGIN:DAYLIGHT
TZOFFSETFROM:-0600
TZOFFSETTO:-0500
TZNAME:CDT
DTSTART:20220313T080000
END:DAYLIGHT
BEGIN:STANDARD
TZOFFSETFROM:-0500
TZOFFSETTO:-0600
TZNAME:CST
DTSTART:20221106T070000
END:STANDARD
BEGIN:DAYLIGHT
TZOFFSETFROM:-0600
TZOFFSETTO:-0500
TZNAME:CDT
DTSTART:20230312T080000
END:DAYLIGHT
BEGIN:STANDARD
TZOFFSETFROM:-0500
TZOFFSETTO:-0600
TZNAME:CST
DTSTART:20231105T070000
END:STANDARD
BEGIN:DAYLIGHT
TZOFFSETFROM:-0600
TZOFFSETTO:-0500
TZNAME:CDT
DTSTART:20240310T080000
END:DAYLIGHT
BEGIN:STANDARD
TZOFFSETFROM:-0500
TZOFFSETTO:-0600
TZNAME:CST
DTSTART:20241103T070000
END:STANDARD
END:VTIMEZONE
BEGIN:VEVENT
DTSTART;TZID=America/Chicago:20231003T120000
DTEND;TZID=America/Chicago:20231003T130000
DTSTAMP:20260420T221437
CREATED:20230807T115633Z
LAST-MODIFIED:20230807T120016Z
UID:13031-1696334400-1696338000@wicancer.org
SUMMARY:Freshstart Smoking Cessation
DESCRIPTION:Are You Ready to Quit Smoking? \nThe American Cancer Society Freshstart ® program is a free\, 4 week group based smoking cessation program offered by Advocate Aurora Health Care. Anyone who wants to quit using tobacco can participate in Freshstart . The primary goal of Freshstart is to help you plan a successful quit attempt by teaching you effective ways to overcome nicotine dependence. The information\, activities and discussion topics will help you discover why you smoke and provide tools to help you quit. \nJoin today and create a personal quit plan with others like you who understand the challenges of trying to quit smoking!\nRegister in advance for a 4 week session: https://aurora.org/smokefree \nWhen:\nFall Session ( Day ) Tuesdays 10/3\, 10/10\, 10/17\, 10/24\nMeeting time Noon-1:00pm via ZOOM \nFall\nSession ( Evening) Wednesdays 10/18\, 10/25\, 11/1\, 11/8\nMeeting time 5:30pm-6:30pm via ZOOM\nAfter registering\, you will receive a confirmation email containing
URL:https://wicancer.org/event/freshstart-smoking-cessation/
LOCATION:Webinar/Web Conference
END:VEVENT
BEGIN:VEVENT
DTSTART;TZID=America/Chicago:20231003T180000
DTEND;TZID=America/Chicago:20231003T193000
DTSTAMP:20260420T221438
CREATED:20230131T181257Z
LAST-MODIFIED:20230131T181257Z
UID:12238-1696356000-1696361400@wicancer.org
SUMMARY:Green Bay Support Group for Kids with a Loved One Going Through Cancer
DESCRIPTION:HSHS St. Vincent Hospital in Green Bay recently started a free support group for kids ages 5-12 who have a loved one going through cancer. This is open to people in the area\, regardless of where they receive their care. This occurs the first Tuesday of every month from 6-7:30 pm at HSHS St. Vincent Hospital. \n \nHSHS Youth Cancer Support Group Flyer 2
URL:https://wicancer.org/event/green-bay-support-group-for-kids-with-a-loved-one-going-through-cancer-8/
LOCATION:HSHS St. Vincent’s Hospital\, Green Bay\, WI
END:VEVENT
BEGIN:VEVENT
DTSTART;TZID=America/Chicago:20231010T120000
DTEND;TZID=America/Chicago:20231010T130000
DTSTAMP:20260420T221438
CREATED:20230807T115726Z
LAST-MODIFIED:20230807T120052Z
UID:13033-1696939200-1696942800@wicancer.org
SUMMARY:Freshstart Smoking Cessation
DESCRIPTION:Are You Ready to Quit Smoking? \nThe American Cancer Society Freshstart ® program is a free\, 4 week group based smoking cessation program offered by Advocate Aurora Health Care. Anyone who wants to quit using tobacco can participate in Freshstart . The primary goal of Freshstart is to help you plan a successful quit attempt by teaching you effective ways to overcome nicotine dependence. The information\, activities and discussion topics will help you discover why you smoke and provide tools to help you quit. \nJoin today and create a personal quit plan with others like you who understand the challenges of trying to quit smoking!\nRegister in advance for a 4 week session: https://aurora.org/smokefree \nWhen:\nFall Session ( Day ) Tuesdays 10/3\, 10/10\, 10/17\, 10/24\nMeeting time Noon-1:00pm via ZOOM \nFall\nSession ( Evening) Wednesdays 10/18\, 10/25\, 11/1\, 11/8\nMeeting time 5:30pm-6:30pm via ZOOM\nAfter registering\, you will receive a confirmation email containing
URL:https://wicancer.org/event/freshstart-smoking-cessation-2/
LOCATION:Webinar/Web Conference
END:VEVENT
BEGIN:VEVENT
DTSTART;TZID=America/Chicago:20231017T120000
DTEND;TZID=America/Chicago:20231017T130000
DTSTAMP:20260420T221438
CREATED:20230807T115754Z
LAST-MODIFIED:20230807T120141Z
UID:13035-1697544000-1697547600@wicancer.org
SUMMARY:Freshstart Smoking Cessation
DESCRIPTION:Are You Ready to Quit Smoking? \nThe American Cancer Society Freshstart ® program is a free\, 4 week group based smoking cessation program offered by Advocate Aurora Health Care. Anyone who wants to quit using tobacco can participate in Freshstart . The primary goal of Freshstart is to help you plan a successful quit attempt by teaching you effective ways to overcome nicotine dependence. The information\, activities and discussion topics will help you discover why you smoke and provide tools to help you quit. \nJoin today and create a personal quit plan with others like you who understand the challenges of trying to quit smoking!\nRegister in advance for a 4 week session: https://aurora.org/smokefree \nWhen:\nFall Session ( Day ) Tuesdays 10/3\, 10/10\, 10/17\, 10/24\nMeeting time Noon-1:00pm via ZOOM \nFall\nSession ( Evening) Wednesdays 10/18\, 10/25\, 11/1\, 11/8\nMeeting time 5:30pm-6:30pm via ZOOM\nAfter registering\, you will receive a confirmation email containing
URL:https://wicancer.org/event/freshstart-smoking-cessation-3/
LOCATION:Webinar/Web Conference
END:VEVENT
BEGIN:VEVENT
DTSTART;TZID=America/Chicago:20231018T173000
DTEND;TZID=America/Chicago:20231018T183000
DTSTAMP:20260420T221438
CREATED:20230807T120239Z
LAST-MODIFIED:20230807T120239Z
UID:13040-1697650200-1697653800@wicancer.org
SUMMARY:Freshstart Smoking Cessation
DESCRIPTION:Are You Ready to Quit Smoking? \nThe American Cancer Society Freshstart ® program is a free\, 4 week group based smoking cessation program offered by Advocate Aurora Health Care. Anyone who wants to quit using tobacco can participate in Freshstart . The primary goal of Freshstart is to help you plan a successful quit attempt by teaching you effective ways to overcome nicotine dependence. The information\, activities and discussion topics will help you discover why you smoke and provide tools to help you quit. \nJoin today and create a personal quit plan with others like you who understand the challenges of trying to quit smoking!\nRegister in advance for a 4 week session: https://aurora.org/smokefree \nWhen:\nFall Session ( Day ) Tuesdays 10/3\, 10/10\, 10/17\, 10/24\nMeeting time Noon-1:00pm via ZOOM \nFall\nSession ( Evening) Wednesdays 10/18\, 10/25\, 11/1\, 11/8\nMeeting time 5:30pm-6:30pm via ZOOM\nAfter registering\, you will receive a confirmation email containing
URL:https://wicancer.org/event/freshstart-smoking-cessation-5/
LOCATION:Webinar/Web Conference
END:VEVENT
BEGIN:VEVENT
DTSTART;TZID=America/Chicago:20231020T080000
DTEND;TZID=America/Chicago:20231020T170000
DTSTAMP:20260420T221438
CREATED:20230717T124546Z
LAST-MODIFIED:20230717T124546Z
UID:12930-1697788800-1697821200@wicancer.org
SUMMARY:21st Annual Fall Cancer Conference: Food as Medicine
DESCRIPTION:Conference Format\nThis conference is being held in-person at Monona Terrace\, One John Nolen Drive\, Madison\, Wisconsin. \nThis event will be held in-person only. There is not a hybrid option for this event\, and the conference will not be recorded for use after the program. \nConference Description\nFood as medicine\, also known as “food is medicine\,” sits at the crossroads of nutrition and healthcare. \nThe “food as medicine” approach to health management challenges the construct of conventional medicine\, which relies primarily on technological medical advancements to manage health and disease with pharmaceutical drugs. \nInformative presentations and interactive discussions await you! Our annual Fall Cancer Conference is designed for health care professionals\, as well as patients and loved ones. \nIntended Audience\nThis activity is designed for individuals who are involved in cancer treatment and education of cancer patients and their families: oncology physicians\, primary care physicians\, oncology nurses\, oncology nurse practitioners\, clinical research associates\, health educators\, social workers\, psychologists\, dietitians\, chaplains\, and other interested health care professionals involved in cancer care. Patients\, caregivers and community members are also encouraged to attend. \nElements of Competence\nThis continuing education activity has been designed to change learner competence and focuses on the American Board of Medical Specialties areas of patient care and procedural skills\, interpersonal and communication skills\, professionalism\, and the interprofessional competency of values/ethics for interprofessional practice. \nGlobal Learning Objectives\nAs a result of participation in this educational activity\, members of the healthcare team will be able to: \n\nDescribe the prevalence of food insecurity\, its impact on patients with cancer\, and best practices to screen for food insecurity in the cancer care setting\nIdentify common nutrition-related treatment side effects and recommended dietary modifications\nRelate the stress/stigma of a plus-size person going to the doctor\nDiscuss the prevalence of malnutrition among oncology patients and the impact on patient care\nDescribe the data supporting alcohol as a cancer-causing agent\nList the benefits of tube feeding in cancer patients with poor nutrition status\nIdentify the most common nutrition myths grabbing cancer patients’ attention\nFormulate strategies to help promote healthy lifestyle changes among patients with cancer\nIllustrate the importance of local\, culturally relevant foods as a gateway to healthier living\nExamine the ways that trauma can impact not only our mental health\, but also contribute to inflammation in the body\nExplore the “Wisconsin EATS Healthy” vision and several food is medicine initiatives that improve nutrition security through increased access to fruits and vegetables\n\nConference Fees\, Cancellation Policy\n$175 Physicians \n$125 Nurses\, Physician Assistants\, Clinical Research Associates\, Social Workers\, Dietitians\, Other Health Care Professionals \n$40 UW Staff\, Residents\, Fellows\, Students \n$40 Cancer Patients\, Survivors\, Caregivers and Family Members \nThe conference fee includes the cost of tuition\, materials\, breakfast\, lunch\, one break\, and a nonrefundable processing fee of $25. \nRequests for cancellation must be submitted in writing to help@icep.wisc.edu. All cancellations must be received on or before October 6\, 2023\, in order to receive a refund minus the $25 nonrefundable processing fee. No refunds will be made for cancellations received after October 6\, 2023 (this also applies to NO SHOWS).
URL:https://wicancer.org/event/21st-annual-fall-cancer-conference-food-as-medicine/
LOCATION:Monona Terrace
END:VEVENT
BEGIN:VEVENT
DTSTART;TZID=America/Chicago:20231024T120000
DTEND;TZID=America/Chicago:20231024T130000
DTSTAMP:20260420T221438
CREATED:20230807T115820Z
LAST-MODIFIED:20230807T120209Z
UID:13037-1698148800-1698152400@wicancer.org
SUMMARY:Freshstart Smoking Cessation
DESCRIPTION:Are You Ready to Quit Smoking? \nThe American Cancer Society Freshstart ® program is a free\, 4 week group based smoking cessation program offered by Advocate Aurora Health Care. Anyone who wants to quit using tobacco can participate in Freshstart . The primary goal of Freshstart is to help you plan a successful quit attempt by teaching you effective ways to overcome nicotine dependence. The information\, activities and discussion topics will help you discover why you smoke and provide tools to help you quit. \nJoin today and create a personal quit plan with others like you who understand the challenges of trying to quit smoking!\nRegister in advance for a 4 week session: https://aurora.org/smokefree \nWhen:\nFall Session ( Day ) Tuesdays 10/3\, 10/10\, 10/17\, 10/24\nMeeting time Noon-1:00pm via ZOOM \nFall\nSession ( Evening) Wednesdays 10/18\, 10/25\, 11/1\, 11/8\nMeeting time 5:30pm-6:30pm via ZOOM\nAfter registering\, you will receive a confirmation email containing
URL:https://wicancer.org/event/freshstart-smoking-cessation-4/
LOCATION:Webinar/Web Conference
END:VEVENT
BEGIN:VEVENT
DTSTART;VALUE=DATE:20231025
DTEND;VALUE=DATE:20231027
DTSTAMP:20260420T221438
CREATED:20230328T143340Z
LAST-MODIFIED:20230727T144532Z
UID:12406-1698192000-1698364799@wicancer.org
SUMMARY:Share the Care American Indian Cancer Conference
DESCRIPTION:Share the Care\, Wisconsin’s American Indian cancer conference\, will now take place on October 25-26. This event returns in-person this year for the first time since 2019. The conference will be held in Oneida\, Wisconsin. Check upcoming issues of ENGAGE for more information and registration details. \nFINAL Share the Care Oct 24-26 \n 
URL:https://wicancer.org/event/share-the-care/
LOCATION:Oneida\, Wisconsin
END:VEVENT
BEGIN:VEVENT
DTSTART;TZID=America/Chicago:20231025T173000
DTEND;TZID=America/Chicago:20231025T183000
DTSTAMP:20260420T221438
CREATED:20230807T123810Z
LAST-MODIFIED:20230807T123810Z
UID:13047-1698255000-1698258600@wicancer.org
SUMMARY:Freshstart Smoking Cessation
DESCRIPTION:Are You Ready to Quit Smoking? \nThe American Cancer Society Freshstart ® program is a free\, 4 week group based smoking cessation program offered by Advocate Aurora Health Care. Anyone who wants to quit using tobacco can participate in Freshstart . The primary goal of Freshstart is to help you plan a successful quit attempt by teaching you effective ways to overcome nicotine dependence. The information\, activities and discussion topics will help you discover why you smoke and provide tools to help you quit. \nJoin today and create a personal quit plan with others like you who understand the challenges of trying to quit smoking!\nRegister in advance for a 4 week session: https://aurora.org/smokefree \nWhen:\nFall Session ( Day ) Tuesdays 10/3\, 10/10\, 10/17\, 10/24\nMeeting time Noon-1:00pm via ZOOM \nFall\nSession ( Evening) Wednesdays 10/18\, 10/25\, 11/1\, 11/8\nMeeting time 5:30pm-6:30pm via ZOOM\nAfter registering\, you will receive a confirmation email containing
URL:https://wicancer.org/event/freshstart-smoking-cessation-6/
LOCATION:Webinar/Web Conference
END:VEVENT
BEGIN:VEVENT
DTSTART;TZID=America/Chicago:20231026T130000
DTEND;TZID=America/Chicago:20231026T141500
DTSTAMP:20260420T221438
CREATED:20231003T140843Z
LAST-MODIFIED:20231003T140843Z
UID:13329-1698325200-1698329700@wicancer.org
SUMMARY:Creating Workforce Development Path
DESCRIPTION:Patient Navigation is a proven evidenced-based intervention contributing to the reduction of health care disparities and the improvement of health equity across the cancer care continuum. Yet sustainability of oncology patient navigation programs remains a challenge. The ACS National Navigation Roundtable is hosting a Call to Action webinar series examining barriers\, standards\, and sustainability of oncology patient navigation. \n\nCreating Workforce Development Path on Thursday\, October 26\, 2023 from 2:00 pm – 3:15 pm ET\nHere’s the Evidence Panorama on Wednesday\, November 8\, 2023  from 3:30 pm – 4:45 pm ET\nPursuing Patient Navigation Policy Landscape on Thursday\, December 6\, 2023 from 2:00 pm – 3:15 pm ET\n\nRegistration: https://us02web.zoom.us/webinar/register/WN_fU_TNUa1S4yS8RYgCCEbag#/registration
URL:https://wicancer.org/event/creating-workforce-development-path/
LOCATION:Webinar/Web Conference
END:VEVENT
END:VCALENDAR