BEGIN:VCALENDAR
VERSION:2.0
PRODID:-//Wisconsin Cancer Collaborative - ECPv6.15.20//NONSGML v1.0//EN
CALSCALE:GREGORIAN
METHOD:PUBLISH
X-ORIGINAL-URL:https://wicancer.org
X-WR-CALDESC:Events for Wisconsin Cancer Collaborative
REFRESH-INTERVAL;VALUE=DURATION:PT1H
X-Robots-Tag:noindex
X-PUBLISHED-TTL:PT1H
BEGIN:VTIMEZONE
TZID:America/Chicago
BEGIN:DAYLIGHT
TZOFFSETFROM:-0600
TZOFFSETTO:-0500
TZNAME:CDT
DTSTART:20220313T080000
END:DAYLIGHT
BEGIN:STANDARD
TZOFFSETFROM:-0500
TZOFFSETTO:-0600
TZNAME:CST
DTSTART:20221106T070000
END:STANDARD
BEGIN:DAYLIGHT
TZOFFSETFROM:-0600
TZOFFSETTO:-0500
TZNAME:CDT
DTSTART:20230312T080000
END:DAYLIGHT
BEGIN:STANDARD
TZOFFSETFROM:-0500
TZOFFSETTO:-0600
TZNAME:CST
DTSTART:20231105T070000
END:STANDARD
BEGIN:DAYLIGHT
TZOFFSETFROM:-0600
TZOFFSETTO:-0500
TZNAME:CDT
DTSTART:20240310T080000
END:DAYLIGHT
BEGIN:STANDARD
TZOFFSETFROM:-0500
TZOFFSETTO:-0600
TZNAME:CST
DTSTART:20241103T070000
END:STANDARD
END:VTIMEZONE
BEGIN:VEVENT
DTSTART;TZID=America/Chicago:20230905T180000
DTEND;TZID=America/Chicago:20230905T190000
DTSTAMP:20260420T233432
CREATED:20230727T121548Z
LAST-MODIFIED:20230727T121548Z
UID:12995-1693936800-1693940400@wicancer.org
SUMMARY:BREAST CANCER SURVIVORSHIP NAVIGATOR VIRTUAL LEARNING COLLABORATIVE
DESCRIPTION:14-week online training\nprogram for patient navigators\nand community health workers \nFlier VLC Series 6 2023
URL:https://wicancer.org/event/breast-cancer-survivorship-navigator-virtual-learning-collaborative/
LOCATION:Webinar/Web Conference
END:VEVENT
BEGIN:VEVENT
DTSTART;TZID=America/Chicago:20230905T180000
DTEND;TZID=America/Chicago:20230905T193000
DTSTAMP:20260420T233432
CREATED:20230131T181242Z
LAST-MODIFIED:20230131T181242Z
UID:12236-1693936800-1693942200@wicancer.org
SUMMARY:Green Bay Support Group for Kids with a Loved One Going Through Cancer
DESCRIPTION:HSHS St. Vincent Hospital in Green Bay recently started a free support group for kids ages 5-12 who have a loved one going through cancer. This is open to people in the area\, regardless of where they receive their care. This occurs the first Tuesday of every month from 6-7:30 pm at HSHS St. Vincent Hospital. \n \nHSHS Youth Cancer Support Group Flyer 2
URL:https://wicancer.org/event/green-bay-support-group-for-kids-with-a-loved-one-going-through-cancer-7/
LOCATION:HSHS St. Vincent’s Hospital\, Green Bay\, WI
END:VEVENT
BEGIN:VEVENT
DTSTART;TZID=America/Chicago:20230908T090000
DTEND;TZID=America/Chicago:20230908T103000
DTSTAMP:20260420T233432
CREATED:20230530T162725Z
LAST-MODIFIED:20230530T162725Z
UID:12618-1694163600-1694169000@wicancer.org
SUMMARY:Cancer Transitions
DESCRIPTION:4 Weeks on Mondays @ 9-10:30pm CT via Zoom\nFall 2023 Session dates:\n9/8\, 15\, 22\, 29\nIt’s quite common to feel a range of emotions once treatment ends. \nThis post-treatment phase of survivorship requires many things – physical activity\, nutrition\, a healthy emotional life\, and management of any health concerns that may arise. \nYou can improve your quality of life by addressing these in an active way. \nCancer Transitions® is a free\, 90-minute\, four-week workshop designed to help cancer survivors make the transition from active treatment to post-treatment care. \n\nSession 1: Get Back to Wellness: Take Control of Your Survivorship\nSession 2: Emotional Health\nSession 3: Eating Well and Staying Active\nSession 4: Medical Management Beyond Cancer: What You Need to Know\n\nPlease plan to attend all four sessions. \nQuestions? Email Kirsten Norslien at Kirsten@gildasclubmadison.org \n  \n\nCancer Transitions is sponsored\, in part\, by the Steve Stricker American Family Insurance Foundation. \n  \nZoom access is provided\, in part\, by our Technology Sponsor\, UW Carbone Cancer Center.
URL:https://wicancer.org/event/cancer-transitions/
LOCATION:Webinar/Web Conference
ATTACH;FMTTYPE=image/png:https://wicancer.org/wp-content/uploads/2023/05/Cancer-Transitions-GCM-Sept-2023.png
END:VEVENT
BEGIN:VEVENT
DTSTART;TZID=America/Chicago:20230909T103000
DTEND;TZID=America/Chicago:20230909T143000
DTSTAMP:20260420T233432
CREATED:20230727T143814Z
LAST-MODIFIED:20230727T143814Z
UID:13003-1694255400-1694269800@wicancer.org
SUMMARY:Free Virtual Educational Conference for Patients\, Survivors\, Caregivers and Healthcare Professionals
DESCRIPTION:The Leukemia & Lymphoma Society is proud to present this free VIRTUAL education event to blood cancer patients\, survivors\, family members\, caregivers\, and healthcare professionals*. Experts in the areas of blood cancer research\, treatment\, and survivorship will present information on each topic. Our goal is to educate conference participants about treatment options\, emerging therapies\, management of survivorship issues and LLS resources.
URL:https://wicancer.org/event/free-virtual-educational-conference-for-patients-survivors-caregivers-and-healthcare-professionals/
LOCATION:Webinar/Web Conference
END:VEVENT
BEGIN:VEVENT
DTSTART;TZID=America/Chicago:20230909T103000
DTEND;TZID=America/Chicago:20230909T143000
DTSTAMP:20260420T233432
CREATED:20230801T182034Z
LAST-MODIFIED:20230801T182034Z
UID:13018-1694255400-1694269800@wicancer.org
SUMMARY:Blood Cancer Conference
DESCRIPTION:A Free Virtual Educational Conference for Patients\, Survivors\,\nCaregivers and Healthcare Professionals*\nSATURDAY\, SEPTEMBER 9\, 2023\n  \nThe Leukemia & Lymphoma Society is proud to present this free VIRTUAL education event to blood cancer patients\, survivors\, family members\, caregivers\, and healthcare professionals*. Experts in the areas of blood cancer research\, treatment\, and survivorship will present information on each topic. Our goal is to educate conference participants about treatment options\, emerging therapies\, management of survivorship issues and LLS resources.
URL:https://wicancer.org/event/blood-cancer-conference/
LOCATION:Webinar/Web Conference
END:VEVENT
BEGIN:VEVENT
DTSTART;TZID=America/Chicago:20230912T093000
DTEND;TZID=America/Chicago:20230912T150000
DTSTAMP:20260420T233432
CREATED:20230727T143200Z
LAST-MODIFIED:20230727T143200Z
UID:12998-1694511000-1694530800@wicancer.org
SUMMARY:Cancer Seminar for Community Health Workers
DESCRIPTION:The American Cancer Society and Kohl’s Healthy Families invite those who promote health in southeastern Wisconsin to attend a FREE Cancer Seminar on Tuesday\, September 12\, 2023\, from 9:30am-3pm at the Milwaukee County Zoofari Conference Center. Participants will have the opportunity to learn valuable skills and resources aimed at helping their clients prevent and detect cancer.  \n  \nRegistration is required and limited\, so please click here to secure your spot.
URL:https://wicancer.org/event/cancer-seminar-for-community-health-workers/
LOCATION:Milwaukee County Zoo
END:VEVENT
BEGIN:VEVENT
DTSTART;TZID=America/Chicago:20230914T100000
DTEND;TZID=America/Chicago:20230914T113000
DTSTAMP:20260420T233432
CREATED:20230725T164945Z
LAST-MODIFIED:20230725T164945Z
UID:12987-1694685600-1694691000@wicancer.org
SUMMARY:Wisconsin Cancer Collaborative Webinar: Pediatric Cancer in Wisconsin
DESCRIPTION:Join the Wisconsin Cancer Collaborative on Thursday\, 9/14/23 for a webinar and Q&A session about pediatric cancer.  \nIn honor of September Pediatric Cancer Awareness month\, this webinar will focus on topics including the latest Wisconsin pediatric cancer data\, research updates\, and resources and programs available in Wisconsin. \nHear from our panel of experts working on pediatric cancer including featured speaker\, Dr. Christian Capitini\, MD of the UW Carbone Cancer\, as well the Wisconsin Cancer Reporting System and others.
URL:https://wicancer.org/event/wisconsin-cancer-collaborative-webinar-pediatric-cancer-in-wisconsin/
LOCATION:Webinar/Web Conference
ATTACH;FMTTYPE=image/png:https://wicancer.org/wp-content/uploads/2023/07/Pediatric-Cancer-in-Wisconsin-Flyer.png
ORGANIZER;CN="Wisconsin Cancer Collaborative":MAILTO:osteidl@wisc.edu
END:VEVENT
BEGIN:VEVENT
DTSTART;TZID=America/Chicago:20230915T090000
DTEND;TZID=America/Chicago:20230915T103000
DTSTAMP:20260420T233432
CREATED:20230530T162740Z
LAST-MODIFIED:20230530T162740Z
UID:12621-1694768400-1694773800@wicancer.org
SUMMARY:Cancer Transitions
DESCRIPTION:4 Weeks on Mondays @ 9-10:30pm CT via Zoom\nFall 2023 Session dates:\n9/8\, 15\, 22\, 29\nIt’s quite common to feel a range of emotions once treatment ends. \nThis post-treatment phase of survivorship requires many things – physical activity\, nutrition\, a healthy emotional life\, and management of any health concerns that may arise. \nYou can improve your quality of life by addressing these in an active way. \nCancer Transitions® is a free\, 90-minute\, four-week workshop designed to help cancer survivors make the transition from active treatment to post-treatment care. \n\nSession 1: Get Back to Wellness: Take Control of Your Survivorship\nSession 2: Emotional Health\nSession 3: Eating Well and Staying Active\nSession 4: Medical Management Beyond Cancer: What You Need to Know\n\nPlease plan to attend all four sessions. \nQuestions? Email Kirsten Norslien at Kirsten@gildasclubmadison.org \n  \n\nCancer Transitions is sponsored\, in part\, by the Steve Stricker American Family Insurance Foundation. \n  \nZoom access is provided\, in part\, by our Technology Sponsor\, UW Carbone Cancer Center.
URL:https://wicancer.org/event/cancer-transitions-2/
LOCATION:Webinar/Web Conference
ATTACH;FMTTYPE=image/png:https://wicancer.org/wp-content/uploads/2023/05/Cancer-Transitions-GCM-Sept-2023.png
END:VEVENT
BEGIN:VEVENT
DTSTART;TZID=America/Chicago:20230919T110000
DTEND;TZID=America/Chicago:20230919T120000
DTSTAMP:20260420T233432
CREATED:20230727T143305Z
LAST-MODIFIED:20230727T143305Z
UID:13001-1695121200-1695124800@wicancer.org
SUMMARY:Addressing the Mental Health of Cancer Survivors
DESCRIPTION:The American Cancer Society & Kohl’s Healthy Families invite you to join us for a free webinar on September 19\, 2023\, from 11AM-NOON CST to learn more about Addressing the Mental Health of Cancer Survivors. We are thrilled to welcome our guest presenter: \n  \nLyndsey Wallace\, Psy.D\, ABPP \nBoard Certified in Clinical Health Psychology \nAssociate Professor \nDepartment of Psychiatry and Behavioral Medicine \nMedical College of Wisconsin \n  \nThe target audience of the webinar includes community health workers\, lay health promoters\, health care workers\, and community organizations who work with cancer survivors and their families. \n  \nSpace is limited\, so please register HERE to reserve your spot!
URL:https://wicancer.org/event/addressing-the-mental-health-of-cancer-survivors/
LOCATION:Webinar/Web Conference
END:VEVENT
BEGIN:VEVENT
DTSTART;TZID=America/Chicago:20230922T090000
DTEND;TZID=America/Chicago:20230922T103000
DTSTAMP:20260420T233432
CREATED:20230530T162756Z
LAST-MODIFIED:20230530T162756Z
UID:12623-1695373200-1695378600@wicancer.org
SUMMARY:Cancer Transitions
DESCRIPTION:4 Weeks on Mondays @ 9-10:30pm CT via Zoom\nFall 2023 Session dates:\n9/8\, 15\, 22\, 29\nIt’s quite common to feel a range of emotions once treatment ends. \nThis post-treatment phase of survivorship requires many things – physical activity\, nutrition\, a healthy emotional life\, and management of any health concerns that may arise. \nYou can improve your quality of life by addressing these in an active way. \nCancer Transitions® is a free\, 90-minute\, four-week workshop designed to help cancer survivors make the transition from active treatment to post-treatment care. \n\nSession 1: Get Back to Wellness: Take Control of Your Survivorship\nSession 2: Emotional Health\nSession 3: Eating Well and Staying Active\nSession 4: Medical Management Beyond Cancer: What You Need to Know\n\nPlease plan to attend all four sessions. \nQuestions? Email Kirsten Norslien at Kirsten@gildasclubmadison.org \n  \n\nCancer Transitions is sponsored\, in part\, by the Steve Stricker American Family Insurance Foundation. \n  \nZoom access is provided\, in part\, by our Technology Sponsor\, UW Carbone Cancer Center.
URL:https://wicancer.org/event/cancer-transitions-3/
LOCATION:Webinar/Web Conference
ATTACH;FMTTYPE=image/png:https://wicancer.org/wp-content/uploads/2023/05/Cancer-Transitions-GCM-Sept-2023.png
END:VEVENT
BEGIN:VEVENT
DTSTART;TZID=America/Chicago:20230928T130000
DTEND;TZID=America/Chicago:20230928T140000
DTSTAMP:20260420T233432
CREATED:20230801T164628Z
LAST-MODIFIED:20230801T164628Z
UID:13013-1695906000-1695909600@wicancer.org
SUMMARY:HPV Cancer Center Consortium Webinars
DESCRIPTION:The National Cancer Institute’s Division of Cancer Control & Population Sciences (DCCPS) \ninvites you to join the HPV Cancer Center Consortium upcoming HPV Cancer Center Consortium Webinars. \n  \nTHURSDAY\, September 28\, 2023\, | 2:00 PM – 3:00 PM ET \nHPV AGE 9 WEBINAR \nEmerging evidence on HPV vaccination at age 9 \nRegister here \n  \nTHURSDAY\, NOVEMBER 2\, 2023\, | 2:00 PM –3:00 PM ET \nCATCH-UP HPV VACCINATION WEBINAR \nStudying intersectionality to achieve equity. \nRegister here
URL:https://wicancer.org/event/hpv-cancer-center-consortium-webinars/
LOCATION:Webinar/Web Conference
END:VEVENT
BEGIN:VEVENT
DTSTART;TZID=America/Chicago:20230929T090000
DTEND;TZID=America/Chicago:20230929T103000
DTSTAMP:20260420T233432
CREATED:20230530T162811Z
LAST-MODIFIED:20230530T162811Z
UID:12625-1695978000-1695983400@wicancer.org
SUMMARY:Cancer Transitions
DESCRIPTION:4 Weeks on Mondays @ 9-10:30pm CT via Zoom\nFall 2023 Session dates:\n9/8\, 15\, 22\, 29\nIt’s quite common to feel a range of emotions once treatment ends. \nThis post-treatment phase of survivorship requires many things – physical activity\, nutrition\, a healthy emotional life\, and management of any health concerns that may arise. \nYou can improve your quality of life by addressing these in an active way. \nCancer Transitions® is a free\, 90-minute\, four-week workshop designed to help cancer survivors make the transition from active treatment to post-treatment care. \n\nSession 1: Get Back to Wellness: Take Control of Your Survivorship\nSession 2: Emotional Health\nSession 3: Eating Well and Staying Active\nSession 4: Medical Management Beyond Cancer: What You Need to Know\n\nPlease plan to attend all four sessions. \nQuestions? Email Kirsten Norslien at Kirsten@gildasclubmadison.org \n  \n\nCancer Transitions is sponsored\, in part\, by the Steve Stricker American Family Insurance Foundation. \n  \nZoom access is provided\, in part\, by our Technology Sponsor\, UW Carbone Cancer Center.
URL:https://wicancer.org/event/cancer-transitions-4/
LOCATION:Webinar/Web Conference
ATTACH;FMTTYPE=image/png:https://wicancer.org/wp-content/uploads/2023/05/Cancer-Transitions-GCM-Sept-2023.png
END:VEVENT
END:VCALENDAR