BEGIN:VCALENDAR
VERSION:2.0
PRODID:-//Wisconsin Cancer Collaborative - ECPv6.15.20//NONSGML v1.0//EN
CALSCALE:GREGORIAN
METHOD:PUBLISH
X-WR-CALNAME:Wisconsin Cancer Collaborative
X-ORIGINAL-URL:https://wicancer.org
X-WR-CALDESC:Events for Wisconsin Cancer Collaborative
REFRESH-INTERVAL;VALUE=DURATION:PT1H
X-Robots-Tag:noindex
X-PUBLISHED-TTL:PT1H
BEGIN:VTIMEZONE
TZID:America/Chicago
BEGIN:DAYLIGHT
TZOFFSETFROM:-0600
TZOFFSETTO:-0500
TZNAME:CDT
DTSTART:20250309T080000
END:DAYLIGHT
BEGIN:STANDARD
TZOFFSETFROM:-0500
TZOFFSETTO:-0600
TZNAME:CST
DTSTART:20251102T070000
END:STANDARD
BEGIN:DAYLIGHT
TZOFFSETFROM:-0600
TZOFFSETTO:-0500
TZNAME:CDT
DTSTART:20260308T080000
END:DAYLIGHT
BEGIN:STANDARD
TZOFFSETFROM:-0500
TZOFFSETTO:-0600
TZNAME:CST
DTSTART:20261101T070000
END:STANDARD
BEGIN:DAYLIGHT
TZOFFSETFROM:-0600
TZOFFSETTO:-0500
TZNAME:CDT
DTSTART:20270314T080000
END:DAYLIGHT
BEGIN:STANDARD
TZOFFSETFROM:-0500
TZOFFSETTO:-0600
TZNAME:CST
DTSTART:20271107T070000
END:STANDARD
END:VTIMEZONE
BEGIN:VEVENT
DTSTART;TZID=America/Chicago:20260422T120000
DTEND;TZID=America/Chicago:20260422T130000
DTSTAMP:20260422T013422
CREATED:20260311T165301Z
LAST-MODIFIED:20260311T165301Z
UID:17105-1776859200-1776862800@wicancer.org
SUMMARY:ACS - First Shot by 11: Driving Early HPV Vaccination Through Structured Collaboration Webinar
DESCRIPTION:In 2025\, Children’s Health Network achieved notable gains in early HPV vaccination by focusing on clinician engagement and a new internal measurement strategy – turning longstanding HPV vaccination recommendations into measurable improvement. Join this ACS-hosted webinar entitled First Shot by 11: Driving Early HPV Vaccination Through Structured Collaboration on Wednesday\, April 22 at 12PM to learn about their network-wide quality improvement structure and hear directly from clinicians involved in the work.\n\nTo register: Meeting Registration – Zoom
URL:https://wicancer.org/event/acs-first-shot-by-11-driving-early-hpv-vaccination-through-structured-collaboration-webinar/
END:VEVENT
BEGIN:VEVENT
DTSTART;TZID=America/Chicago:20260422T120000
DTEND;TZID=America/Chicago:20260422T133000
DTSTAMP:20260422T013422
CREATED:20260226T211141Z
LAST-MODIFIED:20260317T193622Z
UID:17000-1776859200-1776864600@wicancer.org
SUMMARY:Triage Cancer - Medicare Made Simple: A Guide for First-Time Enrollees
DESCRIPTION:On April 22 from 12PM-1:30PM\, Triage Cancer is hosting a free webinar open to all entitled Medicare Made Simple: A Guide for First-Time Enrollees. \nTurning 65 or qualifying for Medicare through Social Security Disability Insurance? This webinar simplifies Medicare basics\, including Parts A\, B\, C\, and D\, key enrollment deadlines\, and how Medicare works with other coverage such as employer\, retiree\, and COBRA plans. Learn how to make the best coverage choices for you and avoid common\, costly mistakes. \nRegister and learn more at: https://triagecancer.org/webinarreg-medicare-made-simple \nThese educational webinars are free and open to anyone. Free contact hours/CEs/PDCs for nurses\, social workers\, patient advocates\, and HR professionals. \nRegister\, and watch recordings of past webinars: TriageCancer.org/Webinars
URL:https://wicancer.org/event/triage-cancer-medicare-made-simple-a-guide-for-first-time-enrollees/
END:VEVENT
END:VCALENDAR