BEGIN:VCALENDAR
VERSION:2.0
PRODID:-//Wisconsin Cancer Collaborative - ECPv6.15.20//NONSGML v1.0//EN
CALSCALE:GREGORIAN
METHOD:PUBLISH
X-WR-CALNAME:Wisconsin Cancer Collaborative
X-ORIGINAL-URL:https://wicancer.org
X-WR-CALDESC:Events for Wisconsin Cancer Collaborative
REFRESH-INTERVAL;VALUE=DURATION:PT1H
X-Robots-Tag:noindex
X-PUBLISHED-TTL:PT1H
BEGIN:VTIMEZONE
TZID:America/Chicago
BEGIN:DAYLIGHT
TZOFFSETFROM:-0600
TZOFFSETTO:-0500
TZNAME:CDT
DTSTART:20240310T080000
END:DAYLIGHT
BEGIN:STANDARD
TZOFFSETFROM:-0500
TZOFFSETTO:-0600
TZNAME:CST
DTSTART:20241103T070000
END:STANDARD
BEGIN:DAYLIGHT
TZOFFSETFROM:-0600
TZOFFSETTO:-0500
TZNAME:CDT
DTSTART:20250309T080000
END:DAYLIGHT
BEGIN:STANDARD
TZOFFSETFROM:-0500
TZOFFSETTO:-0600
TZNAME:CST
DTSTART:20251102T070000
END:STANDARD
BEGIN:DAYLIGHT
TZOFFSETFROM:-0600
TZOFFSETTO:-0500
TZNAME:CDT
DTSTART:20260308T080000
END:DAYLIGHT
BEGIN:STANDARD
TZOFFSETFROM:-0500
TZOFFSETTO:-0600
TZNAME:CST
DTSTART:20261101T070000
END:STANDARD
END:VTIMEZONE
BEGIN:VEVENT
DTSTART;TZID=America/Chicago:20251009T120000
DTEND;TZID=America/Chicago:20251009T133000
DTSTAMP:20260421T073309
CREATED:20250121T225839Z
LAST-MODIFIED:20250121T225839Z
UID:15071-1760011200-1760016600@wicancer.org
SUMMARY:Triage Cancer - What Should I Know About Medicare? – Part 1
DESCRIPTION:Get ready for open enrollment! On October 9\, 2025 from 12-1:30PM CST\, learn about the different parts of Medicare\, Medigap\, and Medicare Advantage. We’ll share strategies for the important decisions you can make this fall. We’ll also share tips for using Medicare’s Plan Finder\, as well as explain how to compare options using our Medicare Options Comparison Worksheet. \nCourse Level: Beginner \nRegister at: https://triagecancer.org/webinarreg-medicare-part-1
URL:https://wicancer.org/event/triage-cancer-what-should-i-know-about-medicare-part-1/
END:VEVENT
END:VCALENDAR