BEGIN:VCALENDAR
VERSION:2.0
PRODID:-//Wisconsin Cancer Collaborative - ECPv6.15.20//NONSGML v1.0//EN
CALSCALE:GREGORIAN
METHOD:PUBLISH
X-WR-CALNAME:Wisconsin Cancer Collaborative
X-ORIGINAL-URL:https://wicancer.org
X-WR-CALDESC:Events for Wisconsin Cancer Collaborative
REFRESH-INTERVAL;VALUE=DURATION:PT1H
X-Robots-Tag:noindex
X-PUBLISHED-TTL:PT1H
BEGIN:VTIMEZONE
TZID:America/Chicago
BEGIN:DAYLIGHT
TZOFFSETFROM:-0600
TZOFFSETTO:-0500
TZNAME:CDT
DTSTART:20240310T080000
END:DAYLIGHT
BEGIN:STANDARD
TZOFFSETFROM:-0500
TZOFFSETTO:-0600
TZNAME:CST
DTSTART:20241103T070000
END:STANDARD
BEGIN:DAYLIGHT
TZOFFSETFROM:-0600
TZOFFSETTO:-0500
TZNAME:CDT
DTSTART:20250309T080000
END:DAYLIGHT
BEGIN:STANDARD
TZOFFSETFROM:-0500
TZOFFSETTO:-0600
TZNAME:CST
DTSTART:20251102T070000
END:STANDARD
BEGIN:DAYLIGHT
TZOFFSETFROM:-0600
TZOFFSETTO:-0500
TZNAME:CDT
DTSTART:20260308T080000
END:DAYLIGHT
BEGIN:STANDARD
TZOFFSETFROM:-0500
TZOFFSETTO:-0600
TZNAME:CST
DTSTART:20261101T070000
END:STANDARD
END:VTIMEZONE
BEGIN:VEVENT
DTSTART;TZID=America/Chicago:20250925T080000
DTEND;TZID=America/Chicago:20250925T080000
DTSTAMP:20260421T003133
CREATED:20250915T130245Z
LAST-MODIFIED:20250916T130436Z
UID:16570-1758787200-1758787200@wicancer.org
SUMMARY:2025 Wisconsin Cancer Summit
DESCRIPTION:September 24 – 25\, 2025 in the Wisconsin Dells – Glacier Canyon Conference Center \nThe Wisconsin Cancer Collaborative is excited to celebrate 20 years of cancer control and prevention work in Wisconsin with our member organizations. This summit will highlight milestones and successes throughout the coalition’s history. \nRegister for the Summit here!
URL:https://wicancer.org/event/2025-wisconsin-cancer-summit-2/
LOCATION:Glacier Canyon\, 45 Hillman Rd\, Wisconsin Dells\, WI\, 53965
ORGANIZER;CN="Wisconsin Cancer Collaborative":MAILTO:osteidl@wisc.edu
END:VEVENT
BEGIN:VEVENT
DTSTART;TZID=America/Chicago:20250925T180000
DTEND;TZID=America/Chicago:20250925T204500
DTSTAMP:20260421T003133
CREATED:20250716T144742Z
LAST-MODIFIED:20250716T144742Z
UID:16342-1758823200-1758833100@wicancer.org
SUMMARY:UWCCC - OncLive® State of the Science Summit™ Breast Cancer
DESCRIPTION:The UW Carbone Cancer Center is hosting a breast cancer educational event for health care professionals at Eastpark Medical Center in partnership with OncLive on Thursday\, September 25. The event is in-person only\, and there is no fee. \nEvent Topics Include: \n\nAdjuvant Strategies for Patients with HR+/HER2- Early-Stage Breast Cancer\nCDK4/6 Inhibitors in HR+ Metastatic Breast Cancer: Optimizing Treatment Selection\nClinical Scenarios: HR+ Breast Cancer\nSequencing Beyond CDK4/6 Inhibitors in HR+HER2- Metastatic Breast Cancer\nNew Kids on the Block: Antibody-Drug Conjugates for Breast Cancer\nLive Q&A
URL:https://wicancer.org/event/uwccc-onclive-state-of-the-science-summit-breast-cancer/
LOCATION:UW Health Eastpark Medical Center\, 4621 Eastpark Blvd\, Madison\, WI\, 53718\, United States
END:VEVENT
END:VCALENDAR