BEGIN:VCALENDAR
VERSION:2.0
PRODID:-//Wisconsin Cancer Collaborative - ECPv6.15.20//NONSGML v1.0//EN
CALSCALE:GREGORIAN
METHOD:PUBLISH
X-ORIGINAL-URL:https://wicancer.org
X-WR-CALDESC:Events for Wisconsin Cancer Collaborative
REFRESH-INTERVAL;VALUE=DURATION:PT1H
X-Robots-Tag:noindex
X-PUBLISHED-TTL:PT1H
BEGIN:VTIMEZONE
TZID:America/Chicago
BEGIN:DAYLIGHT
TZOFFSETFROM:-0600
TZOFFSETTO:-0500
TZNAME:CDT
DTSTART:20240310T080000
END:DAYLIGHT
BEGIN:STANDARD
TZOFFSETFROM:-0500
TZOFFSETTO:-0600
TZNAME:CST
DTSTART:20241103T070000
END:STANDARD
BEGIN:DAYLIGHT
TZOFFSETFROM:-0600
TZOFFSETTO:-0500
TZNAME:CDT
DTSTART:20250309T080000
END:DAYLIGHT
BEGIN:STANDARD
TZOFFSETFROM:-0500
TZOFFSETTO:-0600
TZNAME:CST
DTSTART:20251102T070000
END:STANDARD
BEGIN:DAYLIGHT
TZOFFSETFROM:-0600
TZOFFSETTO:-0500
TZNAME:CDT
DTSTART:20260308T080000
END:DAYLIGHT
BEGIN:STANDARD
TZOFFSETFROM:-0500
TZOFFSETTO:-0600
TZNAME:CST
DTSTART:20261101T070000
END:STANDARD
END:VTIMEZONE
BEGIN:VEVENT
DTSTART;TZID=America/Chicago:20250916T120000
DTEND;TZID=America/Chicago:20250916T133000
DTSTAMP:20260421T003706
CREATED:20250121T225708Z
LAST-MODIFIED:20250121T225708Z
UID:15069-1758024000-1758029400@wicancer.org
SUMMARY:Triage Cancer - Close the Knowledge Gap: Key Tips for Open Enrollment
DESCRIPTION:On September 16\, 2025 from 12-1:30PM CST\, this webinar will take the mystery out of the open enrollment process. Attendees will learn basic health insurance terms and tips for comparing and picking health insurance plans. \nCourse Level: Beginner \nRegister at: https://triagecancer.org/webinarreg-open-enrollment
URL:https://wicancer.org/event/triage-cancer-close-the-knowledge-gap-key-tips-for-open-enrollment/
END:VEVENT
BEGIN:VEVENT
DTSTART;TZID=America/Chicago:20250916T180000
DTEND;TZID=America/Chicago:20250916T190000
DTSTAMP:20260421T003706
CREATED:20250819T141008Z
LAST-MODIFIED:20250819T141008Z
UID:16440-1758045600-1758049200@wicancer.org
SUMMARY:Imerman Angels - Side Effects & Self Advocacy: Your Voice Matters\, Your Power After Cancer Webinar
DESCRIPTION:Join Imerman Angels on Tuesday\, September 16 from 6-7PM CST for a webinar entitled Side Effects & Self Advocacy: Your Voice Matters\, Your Power After Cancer.\n\n\n\nThe cancer journey doesn’t end when treatment does. Survivors\, caregivers and previvors alike often face ongoing challenges – from brain fog and word-finding issues to fatigue\, emotional stress and navigating life after diagnosis. This powerful and supportive virtual presentation features Dr. David-West who will share the importance of breaking the silence about side effects and how to speak up for your needs without guilt or fear.\n\n\nThe event link will be made available upon registration + will be emailed prior.\nQuestions? Contact: info@imermanangels.org \n\nRegister here!
URL:https://wicancer.org/event/imerman-angels-side-effects-self-advocacy-your-voice-matters-your-power-after-cancer-webinar/
END:VEVENT
END:VCALENDAR