BEGIN:VCALENDAR
VERSION:2.0
PRODID:-//Wisconsin Cancer Collaborative - ECPv6.15.20//NONSGML v1.0//EN
CALSCALE:GREGORIAN
METHOD:PUBLISH
X-WR-CALNAME:Wisconsin Cancer Collaborative
X-ORIGINAL-URL:https://wicancer.org
X-WR-CALDESC:Events for Wisconsin Cancer Collaborative
REFRESH-INTERVAL;VALUE=DURATION:PT1H
X-Robots-Tag:noindex
X-PUBLISHED-TTL:PT1H
BEGIN:VTIMEZONE
TZID:America/Chicago
BEGIN:DAYLIGHT
TZOFFSETFROM:-0600
TZOFFSETTO:-0500
TZNAME:CDT
DTSTART:20240310T080000
END:DAYLIGHT
BEGIN:STANDARD
TZOFFSETFROM:-0500
TZOFFSETTO:-0600
TZNAME:CST
DTSTART:20241103T070000
END:STANDARD
BEGIN:DAYLIGHT
TZOFFSETFROM:-0600
TZOFFSETTO:-0500
TZNAME:CDT
DTSTART:20250309T080000
END:DAYLIGHT
BEGIN:STANDARD
TZOFFSETFROM:-0500
TZOFFSETTO:-0600
TZNAME:CST
DTSTART:20251102T070000
END:STANDARD
BEGIN:DAYLIGHT
TZOFFSETFROM:-0600
TZOFFSETTO:-0500
TZNAME:CDT
DTSTART:20260308T080000
END:DAYLIGHT
BEGIN:STANDARD
TZOFFSETFROM:-0500
TZOFFSETTO:-0600
TZNAME:CST
DTSTART:20261101T070000
END:STANDARD
END:VTIMEZONE
BEGIN:VEVENT
DTSTART;TZID=America/Chicago:20250728T140000
DTEND;TZID=America/Chicago:20250728T150000
DTSTAMP:20260420T202509
CREATED:20250708T193945Z
LAST-MODIFIED:20250708T193945Z
UID:16308-1753711200-1753714800@wicancer.org
SUMMARY:ACS - New Resource Webinar: Colorectal Cancer Screening in Rural Communities Best Practices Guidebook
DESCRIPTION:Learn more about the newest resource that the ACS NCCRT will release to help increase CRC screening rates in rural communities! \nPeople living in rural\, remote\, and frontier settings face higher CRC incidence and mortality rates\, increased prevalence of risk factors associated with CRC\, and unique barriers to cancer screenings when compared to non-rural residents. Next month\, the ACS NCCRT will release a best practice guidebook designed to support key community partners in understanding and overcoming the unique challenges and common barriers to CRC screening faced in rural communities. \nRegister to join us for a webinar on Monday\, July 28th from 2:00-3:00 PM CT to learn more about this upcoming resource and receive an overview of recent data and statistics that illustrate the burden of CRC in rural areas\, an outline of the five recommended steps to increase CRC screening rates in rural communities\, and a deep dive into best practices and lessons learned from two of our five exemplary case study site interviewees. \nSpeakers:  \n\nEmily Bell\, MPH\, Director\, ACS NCCRT (moderator)\nMary Carson Brown\, CHES\, Project Coordinator\, One Health Insights\nCara Brown\, MSN\, MBA\, RN\, Population Health Nurse\, Bristol Bay Area Health Corporation (Alaska)\nPatty Molina\, MPH\, Senior Director of Community Health Services\, Mariposa Community Health Center (Arizona)\n\nRegistration is free and is open to ACS NCCRT members\, CDC grantees\, ACS and ACS CAN staff\, and other partners working to increase CRC screening rates. Pre-registration is required. 2:00 – 3:00 PM CT on Monday\, July 28th \nRegister Now
URL:https://wicancer.org/event/acs-new-resource-webinar-colorectal-cancer-screening-in-rural-communities-best-practices-guidebook/
END:VEVENT
END:VCALENDAR