BEGIN:VCALENDAR
VERSION:2.0
PRODID:-//Wisconsin Cancer Collaborative - ECPv6.15.20//NONSGML v1.0//EN
CALSCALE:GREGORIAN
METHOD:PUBLISH
X-WR-CALNAME:Wisconsin Cancer Collaborative
X-ORIGINAL-URL:https://wicancer.org
X-WR-CALDESC:Events for Wisconsin Cancer Collaborative
REFRESH-INTERVAL;VALUE=DURATION:PT1H
X-Robots-Tag:noindex
X-PUBLISHED-TTL:PT1H
BEGIN:VTIMEZONE
TZID:America/Chicago
BEGIN:DAYLIGHT
TZOFFSETFROM:-0600
TZOFFSETTO:-0500
TZNAME:CDT
DTSTART:20240310T080000
END:DAYLIGHT
BEGIN:STANDARD
TZOFFSETFROM:-0500
TZOFFSETTO:-0600
TZNAME:CST
DTSTART:20241103T070000
END:STANDARD
BEGIN:DAYLIGHT
TZOFFSETFROM:-0600
TZOFFSETTO:-0500
TZNAME:CDT
DTSTART:20250309T080000
END:DAYLIGHT
BEGIN:STANDARD
TZOFFSETFROM:-0500
TZOFFSETTO:-0600
TZNAME:CST
DTSTART:20251102T070000
END:STANDARD
BEGIN:DAYLIGHT
TZOFFSETFROM:-0600
TZOFFSETTO:-0500
TZNAME:CDT
DTSTART:20260308T080000
END:DAYLIGHT
BEGIN:STANDARD
TZOFFSETFROM:-0500
TZOFFSETTO:-0600
TZNAME:CST
DTSTART:20261101T070000
END:STANDARD
END:VTIMEZONE
BEGIN:VEVENT
DTSTART;TZID=America/Chicago:20250623T080000
DTEND;TZID=America/Chicago:20250623T163000
DTSTAMP:20260420T185222
CREATED:20250616T152727Z
LAST-MODIFIED:20250616T152727Z
UID:16233-1750665600-1750696200@wicancer.org
SUMMARY:GLITC/WNATN - Net-Na-Maw Tobacco Talks Conference
DESCRIPTION:The Great Lakes Inter-Tribal Council\, Inc.’s Wisconsin Native American Tobacco Network will host a Tobacco Talks conference on Monday\, June 23\, 2025 from 8 a.m. – 4:30 p.m. at the Menominee Resort Casino Convention Center (N277 State Highway 47/55\, P.O. Box 760\, Keshena\, WI 54135). There will be speakers all day covering various commercial tobacco topics\, exhibitors passing out resources\, and raffle prizes! \nThis event is free to attend and includes breakfast and lunch! \nFor more information\, check out the Net-Na-Maw Conference Agenda and the Net-Na-Maw Conference Flyer. \n 
URL:https://wicancer.org/event/glitc-wnatn-net-na-maw-tobacco-talks-conference/
LOCATION:Menominee Resort Casino Convention Center\, N277 WI-47\, Keshena\, WI\, 54135\, United States
END:VEVENT
END:VCALENDAR