BEGIN:VCALENDAR
VERSION:2.0
PRODID:-//Wisconsin Cancer Collaborative - ECPv6.15.20//NONSGML v1.0//EN
CALSCALE:GREGORIAN
METHOD:PUBLISH
X-WR-CALNAME:Wisconsin Cancer Collaborative
X-ORIGINAL-URL:https://wicancer.org
X-WR-CALDESC:Events for Wisconsin Cancer Collaborative
REFRESH-INTERVAL;VALUE=DURATION:PT1H
X-Robots-Tag:noindex
X-PUBLISHED-TTL:PT1H
BEGIN:VTIMEZONE
TZID:America/Chicago
BEGIN:DAYLIGHT
TZOFFSETFROM:-0600
TZOFFSETTO:-0500
TZNAME:CDT
DTSTART:20240310T080000
END:DAYLIGHT
BEGIN:STANDARD
TZOFFSETFROM:-0500
TZOFFSETTO:-0600
TZNAME:CST
DTSTART:20241103T070000
END:STANDARD
BEGIN:DAYLIGHT
TZOFFSETFROM:-0600
TZOFFSETTO:-0500
TZNAME:CDT
DTSTART:20250309T080000
END:DAYLIGHT
BEGIN:STANDARD
TZOFFSETFROM:-0500
TZOFFSETTO:-0600
TZNAME:CST
DTSTART:20251102T070000
END:STANDARD
BEGIN:DAYLIGHT
TZOFFSETFROM:-0600
TZOFFSETTO:-0500
TZNAME:CDT
DTSTART:20260308T080000
END:DAYLIGHT
BEGIN:STANDARD
TZOFFSETFROM:-0500
TZOFFSETTO:-0600
TZNAME:CST
DTSTART:20261101T070000
END:STANDARD
END:VTIMEZONE
BEGIN:VEVENT
DTSTART;TZID=America/Chicago:20250416T180000
DTEND;TZID=America/Chicago:20250416T193000
DTSTAMP:20260420T172255
CREATED:20250130T191657Z
LAST-MODIFIED:20250130T191657Z
UID:15183-1744826400-1744831800@wicancer.org
SUMMARY:Gilda's Club Madison - Caregivers Cancer Transitions Program (Session 1)
DESCRIPTION:Caregivers have their own unique\, yet often overlooked\, needs in survivorship. Each week we’ll meet as a group to hear presentations\, engage in discussion\, and together we will address the emotional and social hurdles faced during this transitional time. We will discuss medical care\, healthy lifestyle\, emotional support\, relationships\, and practical needs. \nThis program is designed to help you improve your quality of life by focusing on lifestyle skills and habits related to: \n\nRe-focusing on You – Session 1\nHealth & Wellness\nEmotions & Relationships\nLooking into the Future\n\n*Attendance at all 4 sessions is strongly recommended. \nLearn more and register: \n\nWednesdays\, April 16 to May 7 @ 6 – 7:30pm CT via Zoom
URL:https://wicancer.org/event/gildas-club-madison-caregivers-cancer-transitions-program-session-1/
END:VEVENT
END:VCALENDAR