BEGIN:VCALENDAR
VERSION:2.0
PRODID:-//Wisconsin Cancer Collaborative - ECPv6.15.20//NONSGML v1.0//EN
CALSCALE:GREGORIAN
METHOD:PUBLISH
X-ORIGINAL-URL:https://wicancer.org
X-WR-CALDESC:Events for Wisconsin Cancer Collaborative
REFRESH-INTERVAL;VALUE=DURATION:PT1H
X-Robots-Tag:noindex
X-PUBLISHED-TTL:PT1H
BEGIN:VTIMEZONE
TZID:America/Chicago
BEGIN:DAYLIGHT
TZOFFSETFROM:-0600
TZOFFSETTO:-0500
TZNAME:CDT
DTSTART:20240310T080000
END:DAYLIGHT
BEGIN:STANDARD
TZOFFSETFROM:-0500
TZOFFSETTO:-0600
TZNAME:CST
DTSTART:20241103T070000
END:STANDARD
BEGIN:DAYLIGHT
TZOFFSETFROM:-0600
TZOFFSETTO:-0500
TZNAME:CDT
DTSTART:20250309T080000
END:DAYLIGHT
BEGIN:STANDARD
TZOFFSETFROM:-0500
TZOFFSETTO:-0600
TZNAME:CST
DTSTART:20251102T070000
END:STANDARD
BEGIN:DAYLIGHT
TZOFFSETFROM:-0600
TZOFFSETTO:-0500
TZNAME:CDT
DTSTART:20260308T080000
END:DAYLIGHT
BEGIN:STANDARD
TZOFFSETFROM:-0500
TZOFFSETTO:-0600
TZNAME:CST
DTSTART:20261101T070000
END:STANDARD
END:VTIMEZONE
BEGIN:VEVENT
DTSTART;TZID=America/Chicago:20250327T120000
DTEND;TZID=America/Chicago:20250327T133000
DTSTAMP:20260420T150222
CREATED:20250121T224809Z
LAST-MODIFIED:20250121T224809Z
UID:15057-1743076800-1743082200@wicancer.org
SUMMARY:Triage Cancer - What to Know About Taking Time Off Work
DESCRIPTION:On March 27\, 2025 from 12PM-1:30PM CST\, this webinar will explain key laws related to taking time off work\, such as the Family and Medical Leave Act (FMLA)\, the Americans with Disabilities Act (ADA)\, and state and local leave laws. Learn about your rights\, the process for requesting leave\, how laws work together\, and what information you may need to disclose about your medical condition. \nCourse Level: Beginner \nRegister at: https://triagecancer.org/webinarreg-taking-time-off-work#registration
URL:https://wicancer.org/event/triage-cancer-what-to-know-about-taking-time-off-work/
END:VEVENT
END:VCALENDAR