BEGIN:VCALENDAR
VERSION:2.0
PRODID:-//Wisconsin Cancer Collaborative - ECPv6.15.20//NONSGML v1.0//EN
CALSCALE:GREGORIAN
METHOD:PUBLISH
X-WR-CALNAME:Wisconsin Cancer Collaborative
X-ORIGINAL-URL:https://wicancer.org
X-WR-CALDESC:Events for Wisconsin Cancer Collaborative
REFRESH-INTERVAL;VALUE=DURATION:PT1H
X-Robots-Tag:noindex
X-PUBLISHED-TTL:PT1H
BEGIN:VTIMEZONE
TZID:America/Chicago
BEGIN:DAYLIGHT
TZOFFSETFROM:-0600
TZOFFSETTO:-0500
TZNAME:CDT
DTSTART:20240310T080000
END:DAYLIGHT
BEGIN:STANDARD
TZOFFSETFROM:-0500
TZOFFSETTO:-0600
TZNAME:CST
DTSTART:20241103T070000
END:STANDARD
BEGIN:DAYLIGHT
TZOFFSETFROM:-0600
TZOFFSETTO:-0500
TZNAME:CDT
DTSTART:20250309T080000
END:DAYLIGHT
BEGIN:STANDARD
TZOFFSETFROM:-0500
TZOFFSETTO:-0600
TZNAME:CST
DTSTART:20251102T070000
END:STANDARD
BEGIN:DAYLIGHT
TZOFFSETFROM:-0600
TZOFFSETTO:-0500
TZNAME:CDT
DTSTART:20260308T080000
END:DAYLIGHT
BEGIN:STANDARD
TZOFFSETFROM:-0500
TZOFFSETTO:-0600
TZNAME:CST
DTSTART:20261101T070000
END:STANDARD
END:VTIMEZONE
BEGIN:VEVENT
DTSTART;TZID=America/Chicago:20250321T100000
DTEND;TZID=America/Chicago:20250321T113000
DTSTAMP:20260420T144837
CREATED:20250130T191204Z
LAST-MODIFIED:20250130T191204Z
UID:15169-1742551200-1742556600@wicancer.org
SUMMARY:Gilda's Club Madison - Cancer Transitions Program (Session 3)
DESCRIPTION:This edition of Cancer Transitions is designed to address the needs of adult cancer survivors. Topics include: \n\nGet Back to Wellness: Take Control of Your Survivorship\nEmotional Health\nEating Well and Staying Active – Session 3\nMedical Management Beyond Cancer: What You Need to Know\n\n*Please plan to attend all four sessions. \nLearn more and register: \n\nFridays\, March 7-28 @ 10 – 11:30am CT via Zoom
URL:https://wicancer.org/event/gildas-club-madison-cancer-transitions-program-session-3/
END:VEVENT
END:VCALENDAR