BEGIN:VCALENDAR
VERSION:2.0
PRODID:-//Wisconsin Cancer Collaborative - ECPv6.15.20//NONSGML v1.0//EN
CALSCALE:GREGORIAN
METHOD:PUBLISH
X-WR-CALNAME:Wisconsin Cancer Collaborative
X-ORIGINAL-URL:https://wicancer.org
X-WR-CALDESC:Events for Wisconsin Cancer Collaborative
REFRESH-INTERVAL;VALUE=DURATION:PT1H
X-Robots-Tag:noindex
X-PUBLISHED-TTL:PT1H
BEGIN:VTIMEZONE
TZID:America/Chicago
BEGIN:DAYLIGHT
TZOFFSETFROM:-0600
TZOFFSETTO:-0500
TZNAME:CDT
DTSTART:20240310T080000
END:DAYLIGHT
BEGIN:STANDARD
TZOFFSETFROM:-0500
TZOFFSETTO:-0600
TZNAME:CST
DTSTART:20241103T070000
END:STANDARD
BEGIN:DAYLIGHT
TZOFFSETFROM:-0600
TZOFFSETTO:-0500
TZNAME:CDT
DTSTART:20250309T080000
END:DAYLIGHT
BEGIN:STANDARD
TZOFFSETFROM:-0500
TZOFFSETTO:-0600
TZNAME:CST
DTSTART:20251102T070000
END:STANDARD
BEGIN:DAYLIGHT
TZOFFSETFROM:-0600
TZOFFSETTO:-0500
TZNAME:CDT
DTSTART:20260308T080000
END:DAYLIGHT
BEGIN:STANDARD
TZOFFSETFROM:-0500
TZOFFSETTO:-0600
TZNAME:CST
DTSTART:20261101T070000
END:STANDARD
END:VTIMEZONE
BEGIN:VEVENT
DTSTART;TZID=America/Chicago:20250311T130000
DTEND;TZID=America/Chicago:20250311T140000
DTSTAMP:20260420T145936
CREATED:20250305T154721Z
LAST-MODIFIED:20250305T154721Z
UID:15732-1741698000-1741701600@wicancer.org
SUMMARY:ACS HPV Roundtable - Preventing Cancer through HPV Vaccination: EHR Age 9 Case Studies
DESCRIPTION:Join the American Cancer Society HPV Roundtable on Tues\, March 11 at 1PM CST to explore how optimizing Electronic Health Records (EHR) for Clinical Decision Support (CDSi) can boost HPV vaccination rates. Attendees will gain insights from two case studies on EHR enhancements for age 9 HPV vaccinations\, covering vaccination outcomes\, build processes\, and lessons learned. Featured speakers include Dr. Michelle Fiscus\, Dr. David Bar-Shain\, and Dr. Thomas Schuch. \nRegister: Webinar Registration – Zoom
URL:https://wicancer.org/event/acs-hpv-roundtable-preventing-cancer-through-hpv-vaccination-ehr-age-9-case-studies/
END:VEVENT
END:VCALENDAR