BEGIN:VCALENDAR
VERSION:2.0
PRODID:-//Wisconsin Cancer Collaborative - ECPv6.15.20//NONSGML v1.0//EN
CALSCALE:GREGORIAN
METHOD:PUBLISH
X-ORIGINAL-URL:https://wicancer.org
X-WR-CALDESC:Events for Wisconsin Cancer Collaborative
REFRESH-INTERVAL;VALUE=DURATION:PT1H
X-Robots-Tag:noindex
X-PUBLISHED-TTL:PT1H
BEGIN:VTIMEZONE
TZID:America/Chicago
BEGIN:DAYLIGHT
TZOFFSETFROM:-0600
TZOFFSETTO:-0500
TZNAME:CDT
DTSTART:20240310T080000
END:DAYLIGHT
BEGIN:STANDARD
TZOFFSETFROM:-0500
TZOFFSETTO:-0600
TZNAME:CST
DTSTART:20241103T070000
END:STANDARD
BEGIN:DAYLIGHT
TZOFFSETFROM:-0600
TZOFFSETTO:-0500
TZNAME:CDT
DTSTART:20250309T080000
END:DAYLIGHT
BEGIN:STANDARD
TZOFFSETFROM:-0500
TZOFFSETTO:-0600
TZNAME:CST
DTSTART:20251102T070000
END:STANDARD
BEGIN:DAYLIGHT
TZOFFSETFROM:-0600
TZOFFSETTO:-0500
TZNAME:CDT
DTSTART:20260308T080000
END:DAYLIGHT
BEGIN:STANDARD
TZOFFSETFROM:-0500
TZOFFSETTO:-0600
TZNAME:CST
DTSTART:20261101T070000
END:STANDARD
END:VTIMEZONE
BEGIN:VEVENT
DTSTART;TZID=America/Chicago:20250305T120000
DTEND;TZID=America/Chicago:20250305T131500
DTSTAMP:20260420T150215
CREATED:20250121T224044Z
LAST-MODIFIED:20250224T220054Z
UID:15049-1741176000-1741180500@wicancer.org
SUMMARY:St. Jude HPV Cancer Prevention Program - Realizing a Regional Plan to Eliminate HPV Cancers\, Starting with Cervical Cancer\, as a Public Health Concern in the Southeast
DESCRIPTION:The St. Jude HPV Cancer Prevention Program is hosting a series of five virtual seminars on March 3rd-7th from 12-1:15PM CST leading up to International HPV Awareness Day on March 4\, 2025. These include seminars on vaccination history in the U.S.\, HPV vaccination policy\, best practices for rural communities\, Southeast regional elimination planning\, and HPV cancer prevention among men.\n\nRealizing a Regional Plan to Eliminate HPV Cancers\, Starting with Cervical Cancer\, as a Public Health Concern in the Southeast: This virtual seminar will describe the progress and potential of implementing a regional plan to eliminate HPV cancers\, starting with cervical cancer as a public health concern\, in the Southeastern U.S. as part of the HPV Vaccination Roundtable of the Southeast.\n\nTo register for one or all seminars\, visit: Register Program – Webex
URL:https://wicancer.org/event/st-jude-hpv-cancer-prevention-program-realizing-a-regional-plan-to-eliminate-hpv-cancers-starting-with-cervical-cancer-as-a-public-health-concern-in-the-southeast/
END:VEVENT
BEGIN:VEVENT
DTSTART;TZID=America/Chicago:20250305T180000
DTEND;TZID=America/Chicago:20250305T190000
DTSTAMP:20260420T150215
CREATED:20250130T190544Z
LAST-MODIFIED:20250130T190840Z
UID:15153-1741197600-1741201200@wicancer.org
SUMMARY:Gilda's Club Madison - Young Adult Cancer Transitions Program (Session 3)
DESCRIPTION:This edition of Cancer Transitions is designed specifically to address the needs of young adults (ages 18-45). From navigating “new normal”\, to relationships\, school/work\, meaning making and medical followup – this program covers so much. There is also time to set goals and make positive changes. \nTopics include: \n\nTaking Control in Survivorship\nEmotions & Relationships\nSurvivorship in Action – Session 3\nMedical Management in Survivorship\n\nLearn more and register: \n\nWednesdays\, February to 19 to March 12 @ 6-7pm CT via Zoom
URL:https://wicancer.org/event/gildas-club-young-adult-transitions-program-session-3/
END:VEVENT
END:VCALENDAR