BEGIN:VCALENDAR
VERSION:2.0
PRODID:-//Wisconsin Cancer Collaborative - ECPv6.15.20//NONSGML v1.0//EN
CALSCALE:GREGORIAN
METHOD:PUBLISH
X-WR-CALNAME:Wisconsin Cancer Collaborative
X-ORIGINAL-URL:https://wicancer.org
X-WR-CALDESC:Events for Wisconsin Cancer Collaborative
REFRESH-INTERVAL;VALUE=DURATION:PT1H
X-Robots-Tag:noindex
X-PUBLISHED-TTL:PT1H
BEGIN:VTIMEZONE
TZID:America/Chicago
BEGIN:DAYLIGHT
TZOFFSETFROM:-0600
TZOFFSETTO:-0500
TZNAME:CDT
DTSTART:20240310T080000
END:DAYLIGHT
BEGIN:STANDARD
TZOFFSETFROM:-0500
TZOFFSETTO:-0600
TZNAME:CST
DTSTART:20241103T070000
END:STANDARD
BEGIN:DAYLIGHT
TZOFFSETFROM:-0600
TZOFFSETTO:-0500
TZNAME:CDT
DTSTART:20250309T080000
END:DAYLIGHT
BEGIN:STANDARD
TZOFFSETFROM:-0500
TZOFFSETTO:-0600
TZNAME:CST
DTSTART:20251102T070000
END:STANDARD
BEGIN:DAYLIGHT
TZOFFSETFROM:-0600
TZOFFSETTO:-0500
TZNAME:CDT
DTSTART:20260308T080000
END:DAYLIGHT
BEGIN:STANDARD
TZOFFSETFROM:-0500
TZOFFSETTO:-0600
TZNAME:CST
DTSTART:20261101T070000
END:STANDARD
END:VTIMEZONE
BEGIN:VEVENT
DTSTART;TZID=America/Chicago:20250304T093000
DTEND;TZID=America/Chicago:20250304T180000
DTSTAMP:20260420T144804
CREATED:20250121T223104Z
LAST-MODIFIED:20250121T223104Z
UID:15039-1741080600-1741111200@wicancer.org
SUMMARY:Triage Cancer - Online Insurance & Finance Intensive
DESCRIPTION:Join Triage Cancer for an all-day intensive on March 4th\, 2025 from 9:30AM-6PM CST. \nThis session’s agenda includes: \n\nIntroduction to Cancer-Related Legal Issues\, Cancer Survivorship\, & Advocacy\nAn Overview of the U.S. Health Care System\nEmployer-Sponsored & Individual Health Insurance\nGovernment Sponsored Health Insurance\nNavigating Disability Insurance & Appeals\n\nContent Level: Beginner\nAudience: Advocates and health care professionals \nTo register and find more information\, visit: Insurance & Finance Intensive – March 2025 | Triage Cancer
URL:https://wicancer.org/event/triage-cancer-online-insurance-finance-intensive/
END:VEVENT
BEGIN:VEVENT
DTSTART;TZID=America/Chicago:20250304T120000
DTEND;TZID=America/Chicago:20250304T131500
DTSTAMP:20260420T144804
CREATED:20250121T224016Z
LAST-MODIFIED:20250224T215931Z
UID:15047-1741089600-1741094100@wicancer.org
SUMMARY:St. Jude HPV Cancer Prevention Program - Promoting HPV Vaccination Policy to Prevent HPV Cancers
DESCRIPTION:The St. Jude HPV Cancer Prevention Program is hosting a series of five virtual seminars on March 3rd-7th from 12-1:15PM CST leading up to International HPV Awareness Day on March 4\, 2025. These include seminars on vaccination history in the U.S.\, HPV vaccination policy\, best practices for rural communities\, Southeast regional elimination planning\, and HPV cancer prevention among men.\n\nPromoting HPV Vaccination Policy to Prevent HPV Cancers: This virtual seminar will focus on promoting HPV vaccination policies to prevent HPV cancers. To fully realize the potential and benefits of the HPV vaccine\, it is essential to pursue policy changes that address the systemic barriers to vaccination coverage in the U.S.\n\nTo register for one or all seminars\, visit: Register Program – Webex
URL:https://wicancer.org/event/st-jude-hpv-cancer-prevention-program-promoting-hpv-vaccination-policy-to-prevent-hpv-cancers/
END:VEVENT
END:VCALENDAR