BEGIN:VCALENDAR
VERSION:2.0
PRODID:-//Wisconsin Cancer Collaborative - ECPv6.15.20//NONSGML v1.0//EN
CALSCALE:GREGORIAN
METHOD:PUBLISH
X-ORIGINAL-URL:https://wicancer.org
X-WR-CALDESC:Events for Wisconsin Cancer Collaborative
REFRESH-INTERVAL;VALUE=DURATION:PT1H
X-Robots-Tag:noindex
X-PUBLISHED-TTL:PT1H
BEGIN:VTIMEZONE
TZID:America/Chicago
BEGIN:DAYLIGHT
TZOFFSETFROM:-0600
TZOFFSETTO:-0500
TZNAME:CDT
DTSTART:20230312T080000
END:DAYLIGHT
BEGIN:STANDARD
TZOFFSETFROM:-0500
TZOFFSETTO:-0600
TZNAME:CST
DTSTART:20231105T070000
END:STANDARD
BEGIN:DAYLIGHT
TZOFFSETFROM:-0600
TZOFFSETTO:-0500
TZNAME:CDT
DTSTART:20240310T080000
END:DAYLIGHT
BEGIN:STANDARD
TZOFFSETFROM:-0500
TZOFFSETTO:-0600
TZNAME:CST
DTSTART:20241103T070000
END:STANDARD
BEGIN:DAYLIGHT
TZOFFSETFROM:-0600
TZOFFSETTO:-0500
TZNAME:CDT
DTSTART:20250309T080000
END:DAYLIGHT
BEGIN:STANDARD
TZOFFSETFROM:-0500
TZOFFSETTO:-0600
TZNAME:CST
DTSTART:20251102T070000
END:STANDARD
END:VTIMEZONE
BEGIN:VEVENT
DTSTART;TZID=America/Chicago:20241112T100000
DTEND;TZID=America/Chicago:20241112T110000
DTSTAMP:20260420T090017
CREATED:20241004T152606Z
LAST-MODIFIED:20241004T152606Z
UID:14717-1731405600-1731409200@wicancer.org
SUMMARY:National LGBT Cancer Network - Inclusivity & Outreach for LGBTQI+ Populations in Cancer Care
DESCRIPTION:UW Carbone Community Outreach & Engagement invites you to join this event on Tuesday\, November 12\, 2024 from 10-11AM\, led by Era Steinfeld (she/her)\, Senior Training Specialist at National LGBTQI+ Cancer Network. Era has over a decade of queer and trans public health experience. She currently supports all trainings led by the National LGBTQI+ Cancer Network in order to increase the health outcomes of queer and trans people in cancer care. \nAt the time of the event\, join the Zoom call here. \nInclusivity Outreach for LGBTQI+ Populations in Cancer Care
URL:https://wicancer.org/event/national-lgbt-cancer-network-inclusivity-outreach-for-lgbtqi-populations-in-cancer-care/
END:VEVENT
END:VCALENDAR