BEGIN:VCALENDAR
VERSION:2.0
PRODID:-//Wisconsin Cancer Collaborative - ECPv6.15.20//NONSGML v1.0//EN
CALSCALE:GREGORIAN
METHOD:PUBLISH
X-WR-CALNAME:Wisconsin Cancer Collaborative
X-ORIGINAL-URL:https://wicancer.org
X-WR-CALDESC:Events for Wisconsin Cancer Collaborative
REFRESH-INTERVAL;VALUE=DURATION:PT1H
X-Robots-Tag:noindex
X-PUBLISHED-TTL:PT1H
BEGIN:VTIMEZONE
TZID:America/Chicago
BEGIN:DAYLIGHT
TZOFFSETFROM:-0600
TZOFFSETTO:-0500
TZNAME:CDT
DTSTART:20230312T080000
END:DAYLIGHT
BEGIN:STANDARD
TZOFFSETFROM:-0500
TZOFFSETTO:-0600
TZNAME:CST
DTSTART:20231105T070000
END:STANDARD
BEGIN:DAYLIGHT
TZOFFSETFROM:-0600
TZOFFSETTO:-0500
TZNAME:CDT
DTSTART:20240310T080000
END:DAYLIGHT
BEGIN:STANDARD
TZOFFSETFROM:-0500
TZOFFSETTO:-0600
TZNAME:CST
DTSTART:20241103T070000
END:STANDARD
BEGIN:DAYLIGHT
TZOFFSETFROM:-0600
TZOFFSETTO:-0500
TZNAME:CDT
DTSTART:20250309T080000
END:DAYLIGHT
BEGIN:STANDARD
TZOFFSETFROM:-0500
TZOFFSETTO:-0600
TZNAME:CST
DTSTART:20251102T070000
END:STANDARD
END:VTIMEZONE
BEGIN:VEVENT
DTSTART;TZID=America/Chicago:20241102T100000
DTEND;TZID=America/Chicago:20241102T113000
DTSTAMP:20260420T075852
CREATED:20240919T145032Z
LAST-MODIFIED:20240919T145032Z
UID:14576-1730541600-1730547000@wicancer.org
SUMMARY:MCW Cancer Center - De-Stress the Holidays for Cancer Survivors and Caregivers
DESCRIPTION:Welcome to Destress the Holidays on Saturday\, November 2nd at 10:00 AM-11:30AM! Take this opportunity to experience selfcare and learn techniques to create peaceful and harmonious family gatherings and holiday seasons. You may join in person at ThriveOn (2153 N. Doctor M.L.K. Jr Dr\, 53212) or you can join virtually.\n\nDuring this session:\n\n\nLearn about good stress\, bad stress\, and the impact on our minds and bodies\nCreate boundaries\nManage expectations\nRe-frame the story & have fun!\n\nDon’t miss out on this opportunity to take care of yourself and prepare for upcoming festivities. \nThe attire is business casual. Please note seating is not assigned but is available first come\, first serve. Please register here by October 29th. \nYour registration serves as consent that your photograph can be taken at the event. \nDestress Holiday flyer_LADfin
URL:https://wicancer.org/event/mcw-cancer-center-de-stress-the-holidays-for-cancer-survivors-and-caregivers/
END:VEVENT
END:VCALENDAR