BEGIN:VCALENDAR
VERSION:2.0
PRODID:-//Wisconsin Cancer Collaborative - ECPv6.15.20//NONSGML v1.0//EN
CALSCALE:GREGORIAN
METHOD:PUBLISH
X-ORIGINAL-URL:https://wicancer.org
X-WR-CALDESC:Events for Wisconsin Cancer Collaborative
REFRESH-INTERVAL;VALUE=DURATION:PT1H
X-Robots-Tag:noindex
X-PUBLISHED-TTL:PT1H
BEGIN:VTIMEZONE
TZID:America/Chicago
BEGIN:DAYLIGHT
TZOFFSETFROM:-0600
TZOFFSETTO:-0500
TZNAME:CDT
DTSTART:20230312T080000
END:DAYLIGHT
BEGIN:STANDARD
TZOFFSETFROM:-0500
TZOFFSETTO:-0600
TZNAME:CST
DTSTART:20231105T070000
END:STANDARD
BEGIN:DAYLIGHT
TZOFFSETFROM:-0600
TZOFFSETTO:-0500
TZNAME:CDT
DTSTART:20240310T080000
END:DAYLIGHT
BEGIN:STANDARD
TZOFFSETFROM:-0500
TZOFFSETTO:-0600
TZNAME:CST
DTSTART:20241103T070000
END:STANDARD
BEGIN:DAYLIGHT
TZOFFSETFROM:-0600
TZOFFSETTO:-0500
TZNAME:CDT
DTSTART:20250309T080000
END:DAYLIGHT
BEGIN:STANDARD
TZOFFSETFROM:-0500
TZOFFSETTO:-0600
TZNAME:CST
DTSTART:20251102T070000
END:STANDARD
END:VTIMEZONE
BEGIN:VEVENT
DTSTART;TZID=America/Chicago:20241030T120000
DTEND;TZID=America/Chicago:20241030T130000
DTSTAMP:20260420T080239
CREATED:20241015T143537Z
LAST-MODIFIED:20241015T143537Z
UID:14751-1730289600-1730293200@wicancer.org
SUMMARY:American Lung Association - Respiratory Virus Immunizations for Adults with Chronic Medical Conditions
DESCRIPTION:Join the Lung Association for a webinar on October 30th at 12:00 pm CDT to learn about fall and winter respiratory viruses like respiratory syncytial virus (RSV)\, flu and COVID-19. This webinar will focus on the recommendations for the 2024-25 season and implications of respiratory viruses on adults living with chronic conditions like asthma\, COPD\, diabetes and heart disease. The webinar will highlight prevention strategies\, vaccination recommendations\, where to get vaccinated and more. Please share this opportunity with the communities you serve! \nDate: October 30\, 2024 \nTime: 12:00-1:00 PM Central Time \nFeatured presenters: \n\nAlbert Rizzo\, MD\, FACP – Chief Medical Officer\, American Lung Association\nPragna Patel\, MD – Chief Medical Officer\, Coronaviruses and Other Respiratory Viruses Division\, Centers for Disease Control and Prevention\nEduardo Sanchez\, MD\, MPH\, FAAFP – Chief Medical Officer for Prevention\, American Heart Association\nJane E. B. Reusch\, MD\, FAHA – Past President for Medicine and Science\, American Diabetes Association\n\nRegister Today!
URL:https://wicancer.org/event/american-lung-association-respiratory-virus-immunizations-for-adults-with-chronic-medical-conditions/
END:VEVENT
BEGIN:VEVENT
DTSTART;TZID=America/Chicago:20241030T180000
DTEND;TZID=America/Chicago:20241030T193000
DTSTAMP:20260420T080239
CREATED:20240815T120210Z
LAST-MODIFIED:20240815T120210Z
UID:14417-1730311200-1730316600@wicancer.org
SUMMARY:Gilda's Club Madison Cancer Transitions Young Adults
DESCRIPTION:Gilda’s Club Madison Cancer Transitions Young Adults\n4 Weeks on Wednesdays: 10/30-11/20 @ 6 pm – 7:30pm on Zoom\nThis 4 session workshop will offer space to learn more about life after treatment is over. Each session has a different focus: \n\nTaking Control in Survivorship\nEmotions & Relationships\nSurvivorship in Action\nMedical Management in Survivorship\nWe will develop strategies\, look at goals\, and develop skills for the next stages.\n\nThis program is limited to 8 participants. You must be under 40\, and 3 weeks to 3 years from treatment. Ongoing therapies (hormone therapy or maintenance) do not count. Please plan to attend all four sessions.\n\n\nQuestions? Email Kirsten Norslien at Kirsten@gildasclubmadison.org\n\n| Gilda&#039;s Club Madison (gildasclubmadison.org)
URL:https://wicancer.org/event/gildas-club-madison-cancer-transitions-young-adults/
END:VEVENT
END:VCALENDAR