BEGIN:VCALENDAR
VERSION:2.0
PRODID:-//Wisconsin Cancer Collaborative - ECPv6.15.20//NONSGML v1.0//EN
CALSCALE:GREGORIAN
METHOD:PUBLISH
X-WR-CALNAME:Wisconsin Cancer Collaborative
X-ORIGINAL-URL:https://wicancer.org
X-WR-CALDESC:Events for Wisconsin Cancer Collaborative
REFRESH-INTERVAL;VALUE=DURATION:PT1H
X-Robots-Tag:noindex
X-PUBLISHED-TTL:PT1H
BEGIN:VTIMEZONE
TZID:America/Chicago
BEGIN:DAYLIGHT
TZOFFSETFROM:-0600
TZOFFSETTO:-0500
TZNAME:CDT
DTSTART:20230312T080000
END:DAYLIGHT
BEGIN:STANDARD
TZOFFSETFROM:-0500
TZOFFSETTO:-0600
TZNAME:CST
DTSTART:20231105T070000
END:STANDARD
BEGIN:DAYLIGHT
TZOFFSETFROM:-0600
TZOFFSETTO:-0500
TZNAME:CDT
DTSTART:20240310T080000
END:DAYLIGHT
BEGIN:STANDARD
TZOFFSETFROM:-0500
TZOFFSETTO:-0600
TZNAME:CST
DTSTART:20241103T070000
END:STANDARD
BEGIN:DAYLIGHT
TZOFFSETFROM:-0600
TZOFFSETTO:-0500
TZNAME:CDT
DTSTART:20250309T080000
END:DAYLIGHT
BEGIN:STANDARD
TZOFFSETFROM:-0500
TZOFFSETTO:-0600
TZNAME:CST
DTSTART:20251102T070000
END:STANDARD
END:VTIMEZONE
BEGIN:VEVENT
DTSTART;TZID=America/Chicago:20241025T080000
DTEND;TZID=America/Chicago:20241026T170000
DTSTAMP:20260420T075924
CREATED:20240711T150435Z
LAST-MODIFIED:20240711T150435Z
UID:14261-1729843200-1729962000@wicancer.org
SUMMARY:Triage Cancer® Conference: Friday\, October 25 & Saturday\, October 26
DESCRIPTION:Triage Cancer® Conference: Friday\, October 25 & Saturday\, October 26 \nThis FREE online event is for anyone in the cancer community wanting a better understanding of how to navigate legal and practical issues\, minimize the financial impact of a cancer diagnosis\, and reduce stress. Topics include: \n·  Understanding health insurance\, picking a health insurance plan\, and appealing denials \n·  How to work through treatment or take time off \n·  Accessing paid leave for caregivers \n·  Applying for and appealing disability insurance \n·  Estate planning and medical decision making \n·  Getting organized \n·  Managing medical bills\, finances\, and getting financial help \nRegister here: Cancer Rights Conferences | Triage Cancer
URL:https://wicancer.org/event/triage-cancer-conference-friday-october-25-saturday-october-26/
END:VEVENT
BEGIN:VEVENT
DTSTART;TZID=America/Chicago:20241026T093000
DTEND;TZID=America/Chicago:20241026T110000
DTSTAMP:20260420T075924
CREATED:20241001T174536Z
LAST-MODIFIED:20241001T174536Z
UID:14680-1729935000-1729940400@wicancer.org
SUMMARY:MCW\, UW Carbone\, and Leukemia & Lymphoma Society - Equal Access\, Better Outcomes: A Community Conversation on Multiple Myeloma and Health Equity
DESCRIPTION:Medical College of Wisconsin Cancer Center\, UW Carbone Cancer Center\, and the Leukemia & Lymphoma Society are hosting a webinar entitled “Equal Access\, Better Outcomes: A Community Conversation on Multiple Myeloma and Health Equity” on October 26\, 2024 from 9:30am – 11:00am at ThriveOn King Neighborhood Hall (2351 N. Dr. Martin Luther King Drive\, Milwaukee\, WI 53212). \nMultiple myeloma is a complex and aggressive form of cancer that disproportionately impacts certain racial and ethnic groups\, particularly African Americans\, who are twice as likely to be diagnosed with this disease compared to white Americans. This symposium is dedicated to understanding disparities\, identifying actionable solutions\, and fostering collaborations that ensure equal access to care for all patients\, regardless of race\, socioeconomic status\, or geographic location. \nFeatured panelists: \n\nOthman S. Akhtar\, MD – Assistant Professor\, Medical College of Wisconsin\nNatalie Callander\, MD – Hematology\, Medical Oncology and Palliative Care Professor (CHS)\, WI Institute Medical Research\nBinod Dhakal\, MD – Associate Professor Hematology and Medical Oncology\, Medical College of Wisconsin\n\nThis event has free parking available! Register at: https://rb.gy/gsqh3o \nContact: Debra Nevels: dnevels@mcw.edu\, 414-955-2364 \nMML 10.26.2024
URL:https://wicancer.org/event/mcw-uw-carbone-and-leukemia-lymphoma-society-equal-access-better-outcomes-a-community-conversation-on-multiple-myeloma-and-health-equity/
END:VEVENT
END:VCALENDAR