BEGIN:VCALENDAR
VERSION:2.0
PRODID:-//Wisconsin Cancer Collaborative - ECPv6.15.20//NONSGML v1.0//EN
CALSCALE:GREGORIAN
METHOD:PUBLISH
X-ORIGINAL-URL:https://wicancer.org
X-WR-CALDESC:Events for Wisconsin Cancer Collaborative
REFRESH-INTERVAL;VALUE=DURATION:PT1H
X-Robots-Tag:noindex
X-PUBLISHED-TTL:PT1H
BEGIN:VTIMEZONE
TZID:America/Chicago
BEGIN:DAYLIGHT
TZOFFSETFROM:-0600
TZOFFSETTO:-0500
TZNAME:CDT
DTSTART:20230312T080000
END:DAYLIGHT
BEGIN:STANDARD
TZOFFSETFROM:-0500
TZOFFSETTO:-0600
TZNAME:CST
DTSTART:20231105T070000
END:STANDARD
BEGIN:DAYLIGHT
TZOFFSETFROM:-0600
TZOFFSETTO:-0500
TZNAME:CDT
DTSTART:20240310T080000
END:DAYLIGHT
BEGIN:STANDARD
TZOFFSETFROM:-0500
TZOFFSETTO:-0600
TZNAME:CST
DTSTART:20241103T070000
END:STANDARD
BEGIN:DAYLIGHT
TZOFFSETFROM:-0600
TZOFFSETTO:-0500
TZNAME:CDT
DTSTART:20250309T080000
END:DAYLIGHT
BEGIN:STANDARD
TZOFFSETFROM:-0500
TZOFFSETTO:-0600
TZNAME:CST
DTSTART:20251102T070000
END:STANDARD
END:VTIMEZONE
BEGIN:VEVENT
DTSTART;TZID=America/Chicago:20241007T080000
DTEND;TZID=America/Chicago:20241011T170000
DTSTAMP:20260420T080308
CREATED:20240815T115152Z
LAST-MODIFIED:20240815T115152Z
UID:14395-1728288000-1728666000@wicancer.org
SUMMARY:2024 HPV Vaccination Roundtable Public National Meeting
DESCRIPTION:2024 HPV Vaccination Roundtable Public National Meeting\nOctober 7th – 11th\, 2024 | 11-12:30 PM CST  \n\n\n\n\n\n\n\n\n\n\n\n\n\n\n\n\n\n\n\n\nJoin the ACS HPV Vaccination Roundtable as they host their 2024 National Meeting virtually from Monday\, October 7th to Friday\, October 11th. They will meet daily 11-12:30 PM CST. Throughout the week they will be celebrating the accomplishments of the ACS HPVRT over the last 10 years. All are welcome to join.\n\n\n\n\n\nRegistration: https://hpvroundtable.org/national-meetings/2024-national-meeting/
URL:https://wicancer.org/event/2024-hpv-vaccination-roundtable-public-national-meeting/
END:VEVENT
BEGIN:VEVENT
DTSTART;VALUE=DATE:20241010
DTEND;VALUE=DATE:20241013
DTSTAMP:20260420T080308
CREATED:20240322T132602Z
LAST-MODIFIED:20240322T132602Z
UID:13979-1728518400-1728777599@wicancer.org
SUMMARY:What About Kids? Symposium
DESCRIPTION:What About Kids? Symposium October 10-12\, 2024 Louisville\, KY\n\n\nThe What About Kids Research & Advocacy Symposium is for healthcare professionals\, legislators\, and people who were personally touched by childhood cancer.   The goal of the symposium is to present and share the latest research findings\, identify new legislative opportunities to expand research funding\, and facilitate communication and connection. Continuing education credits available.\n“What About Kids?®” Symposium (regfox.com)
URL:https://wicancer.org/event/what-about-kids-symposium/
END:VEVENT
BEGIN:VEVENT
DTSTART;TZID=America/Chicago:20241011T120000
DTEND;TZID=America/Chicago:20241011T133000
DTSTAMP:20260420T080308
CREATED:20240815T115634Z
LAST-MODIFIED:20240815T115634Z
UID:14405-1728648000-1728653400@wicancer.org
SUMMARY:Gilda's Club Madison Cancer Transitions Workshop
DESCRIPTION:Gilda’s Club Madison Cancer Transitions\n4 Weeks on Fridays @ 12- 1:30 pm CT via Zoom Sept. 20\, Sept. 27\, Oct. 4\, Oct. 11\n\nCancer Transitions® is a free\, four-week workshop designed to help cancer survivors make the transition from active treatment to post-treatment care. \n\nSession 1: Get Back to Wellness: Take Control of Your Survivorship\nSession 2: Emotional Health\nSession 3: Eating Well and Staying Active\nSession 4: Medical Management Beyond Cancer: What You Need to Know\n\nPlease plan to attend all four sessions. \nQuestions? Email Kirsten Norslien at Kirsten@gildasclubmadison.org \n| Gilda&#039;s Club Madison (gildasclubmadison.org)
URL:https://wicancer.org/event/gildas-club-madison-cancer-transitions-workshop-4/
END:VEVENT
END:VCALENDAR