BEGIN:VCALENDAR
VERSION:2.0
PRODID:-//Wisconsin Cancer Collaborative - ECPv6.15.20//NONSGML v1.0//EN
CALSCALE:GREGORIAN
METHOD:PUBLISH
X-ORIGINAL-URL:https://wicancer.org
X-WR-CALDESC:Events for Wisconsin Cancer Collaborative
REFRESH-INTERVAL;VALUE=DURATION:PT1H
X-Robots-Tag:noindex
X-PUBLISHED-TTL:PT1H
BEGIN:VTIMEZONE
TZID:America/Chicago
BEGIN:DAYLIGHT
TZOFFSETFROM:-0600
TZOFFSETTO:-0500
TZNAME:CDT
DTSTART:20230312T080000
END:DAYLIGHT
BEGIN:STANDARD
TZOFFSETFROM:-0500
TZOFFSETTO:-0600
TZNAME:CST
DTSTART:20231105T070000
END:STANDARD
BEGIN:DAYLIGHT
TZOFFSETFROM:-0600
TZOFFSETTO:-0500
TZNAME:CDT
DTSTART:20240310T080000
END:DAYLIGHT
BEGIN:STANDARD
TZOFFSETFROM:-0500
TZOFFSETTO:-0600
TZNAME:CST
DTSTART:20241103T070000
END:STANDARD
BEGIN:DAYLIGHT
TZOFFSETFROM:-0600
TZOFFSETTO:-0500
TZNAME:CDT
DTSTART:20250309T080000
END:DAYLIGHT
BEGIN:STANDARD
TZOFFSETFROM:-0500
TZOFFSETTO:-0600
TZNAME:CST
DTSTART:20251102T070000
END:STANDARD
END:VTIMEZONE
BEGIN:VEVENT
DTSTART;TZID=America/Chicago:20241007T080000
DTEND;TZID=America/Chicago:20241011T170000
DTSTAMP:20260420T080202
CREATED:20240815T115152Z
LAST-MODIFIED:20240815T115152Z
UID:14395-1728288000-1728666000@wicancer.org
SUMMARY:2024 HPV Vaccination Roundtable Public National Meeting
DESCRIPTION:2024 HPV Vaccination Roundtable Public National Meeting\nOctober 7th – 11th\, 2024 | 11-12:30 PM CST  \n\n\n\n\n\n\n\n\n\n\n\n\n\n\n\n\n\n\n\n\nJoin the ACS HPV Vaccination Roundtable as they host their 2024 National Meeting virtually from Monday\, October 7th to Friday\, October 11th. They will meet daily 11-12:30 PM CST. Throughout the week they will be celebrating the accomplishments of the ACS HPVRT over the last 10 years. All are welcome to join.\n\n\n\n\n\nRegistration: https://hpvroundtable.org/national-meetings/2024-national-meeting/
URL:https://wicancer.org/event/2024-hpv-vaccination-roundtable-public-national-meeting/
END:VEVENT
BEGIN:VEVENT
DTSTART;TZID=America/Chicago:20241008T103000
DTEND;TZID=America/Chicago:20241008T120000
DTSTAMP:20260420T080202
CREATED:20240815T120012Z
LAST-MODIFIED:20240815T120012Z
UID:14411-1728383400-1728388800@wicancer.org
SUMMARY:Gilda's Club Madison Coping with Cancer 5 week Virtual Series
DESCRIPTION:Gilda’s Club Madison Coping with Cancer 5 week Virtual Series\nTuesdays\, Sept. 24\, Oct. 1\, 8\, 15\, 22  10:30 am – 12 pm\n\nJoin Gilda’s Club Madison to learn practical tools to manage the challenge of life with cancer and cope even in the darkest days. This 5-week curriculum includes: \n\n\nSteadying yourself in the face of common cancer concerns \n\n\nMaking complicated decisions under stress \n\n\nManaging powerful emotions without being overwhelmed \n\n\nNavigating relationships with love ones\, colleagues and health care professionals \n\n\nFinding ways to live meaningfully with cancer \n\n\n\n| Gilda&#039;s Club Madison (gildasclubmadison.org)
URL:https://wicancer.org/event/gildas-club-madison-coping-with-cancer-5-week-virtual-series-3/
END:VEVENT
END:VCALENDAR