BEGIN:VCALENDAR
VERSION:2.0
PRODID:-//Wisconsin Cancer Collaborative - ECPv6.15.20//NONSGML v1.0//EN
CALSCALE:GREGORIAN
METHOD:PUBLISH
X-ORIGINAL-URL:https://wicancer.org
X-WR-CALDESC:Events for Wisconsin Cancer Collaborative
REFRESH-INTERVAL;VALUE=DURATION:PT1H
X-Robots-Tag:noindex
X-PUBLISHED-TTL:PT1H
BEGIN:VTIMEZONE
TZID:America/Chicago
BEGIN:DAYLIGHT
TZOFFSETFROM:-0600
TZOFFSETTO:-0500
TZNAME:CDT
DTSTART:20230312T080000
END:DAYLIGHT
BEGIN:STANDARD
TZOFFSETFROM:-0500
TZOFFSETTO:-0600
TZNAME:CST
DTSTART:20231105T070000
END:STANDARD
BEGIN:DAYLIGHT
TZOFFSETFROM:-0600
TZOFFSETTO:-0500
TZNAME:CDT
DTSTART:20240310T080000
END:DAYLIGHT
BEGIN:STANDARD
TZOFFSETFROM:-0500
TZOFFSETTO:-0600
TZNAME:CST
DTSTART:20241103T070000
END:STANDARD
BEGIN:DAYLIGHT
TZOFFSETFROM:-0600
TZOFFSETTO:-0500
TZNAME:CDT
DTSTART:20250309T080000
END:DAYLIGHT
BEGIN:STANDARD
TZOFFSETFROM:-0500
TZOFFSETTO:-0600
TZNAME:CST
DTSTART:20251102T070000
END:STANDARD
END:VTIMEZONE
BEGIN:VEVENT
DTSTART;TZID=America/Chicago:20240827T120000
DTEND;TZID=America/Chicago:20240827T133000
DTSTAMP:20260420T092740
CREATED:20231211T174105Z
LAST-MODIFIED:20231211T174105Z
UID:13686-1724760000-1724765400@wicancer.org
SUMMARY:Maximizing Employee Benefits
DESCRIPTION:Maximizing Employee Benefits | Webinar Registration\nThis webinar will present tips for how to maximize benefits that may be offered by employers\, including how to pick a health insurance plan if you are given options\, accessing other types of insurance (e.g.\, life or disability)\, tax saving strategies\, planning for retirement\, and more. This webinar will also discuss benefits people are less familiar with\, such as employee assistance and wellness programs. \nAugust 27\, 2024 \n11am PT / 12pm CT / 1pm ET\nDuration: 90 minutes\nCourse Level: Beginner
URL:https://wicancer.org/event/maximizing-employee-benefits/
LOCATION:Webinar/Web Conference
END:VEVENT
END:VCALENDAR