BEGIN:VCALENDAR
VERSION:2.0
PRODID:-//Wisconsin Cancer Collaborative - ECPv6.15.20//NONSGML v1.0//EN
CALSCALE:GREGORIAN
METHOD:PUBLISH
X-WR-CALNAME:Wisconsin Cancer Collaborative
X-ORIGINAL-URL:https://wicancer.org
X-WR-CALDESC:Events for Wisconsin Cancer Collaborative
REFRESH-INTERVAL;VALUE=DURATION:PT1H
X-Robots-Tag:noindex
X-PUBLISHED-TTL:PT1H
BEGIN:VTIMEZONE
TZID:America/Chicago
BEGIN:DAYLIGHT
TZOFFSETFROM:-0600
TZOFFSETTO:-0500
TZNAME:CDT
DTSTART:20230312T080000
END:DAYLIGHT
BEGIN:STANDARD
TZOFFSETFROM:-0500
TZOFFSETTO:-0600
TZNAME:CST
DTSTART:20231105T070000
END:STANDARD
BEGIN:DAYLIGHT
TZOFFSETFROM:-0600
TZOFFSETTO:-0500
TZNAME:CDT
DTSTART:20240310T080000
END:DAYLIGHT
BEGIN:STANDARD
TZOFFSETFROM:-0500
TZOFFSETTO:-0600
TZNAME:CST
DTSTART:20241103T070000
END:STANDARD
BEGIN:DAYLIGHT
TZOFFSETFROM:-0600
TZOFFSETTO:-0500
TZNAME:CDT
DTSTART:20250309T080000
END:DAYLIGHT
BEGIN:STANDARD
TZOFFSETFROM:-0500
TZOFFSETTO:-0600
TZNAME:CST
DTSTART:20251102T070000
END:STANDARD
END:VTIMEZONE
BEGIN:VEVENT
DTSTART;TZID=America/Chicago:20240822T100000
DTEND;TZID=America/Chicago:20240822T160000
DTSTAMP:20260420T105230
CREATED:20240723T171246Z
LAST-MODIFIED:20240723T171246Z
UID:14303-1724320800-1724342400@wicancer.org
SUMMARY:American Cancer Society National Roundtable on Cervical Cancer National Meeting Public Session
DESCRIPTION:American Cancer Society National Roundtable on Cervical Cancer National Meeting Public Session\nThursday\, August 22nd from 10 am to 4 pm CST under the theme of “Force of the Future”. This virtual gathering is an opportunity to harness the power of innovation\, collaboration\, and dedication in our quest to improve outcomes and save lives.\nAll are welcome to join.\n2024 ACS NRTCC Annual National Meeting – NRTCC (cervicalroundtable.org)
URL:https://wicancer.org/event/american-cancer-society-national-roundtable-on-cervical-cancer-national-meeting-public-session/
END:VEVENT
END:VCALENDAR