BEGIN:VCALENDAR
VERSION:2.0
PRODID:-//Wisconsin Cancer Collaborative - ECPv6.15.20//NONSGML v1.0//EN
CALSCALE:GREGORIAN
METHOD:PUBLISH
X-ORIGINAL-URL:https://wicancer.org
X-WR-CALDESC:Events for Wisconsin Cancer Collaborative
REFRESH-INTERVAL;VALUE=DURATION:PT1H
X-Robots-Tag:noindex
X-PUBLISHED-TTL:PT1H
BEGIN:VTIMEZONE
TZID:America/Chicago
BEGIN:DAYLIGHT
TZOFFSETFROM:-0600
TZOFFSETTO:-0500
TZNAME:CDT
DTSTART:20230312T080000
END:DAYLIGHT
BEGIN:STANDARD
TZOFFSETFROM:-0500
TZOFFSETTO:-0600
TZNAME:CST
DTSTART:20231105T070000
END:STANDARD
BEGIN:DAYLIGHT
TZOFFSETFROM:-0600
TZOFFSETTO:-0500
TZNAME:CDT
DTSTART:20240310T080000
END:DAYLIGHT
BEGIN:STANDARD
TZOFFSETFROM:-0500
TZOFFSETTO:-0600
TZNAME:CST
DTSTART:20241103T070000
END:STANDARD
BEGIN:DAYLIGHT
TZOFFSETFROM:-0600
TZOFFSETTO:-0500
TZNAME:CDT
DTSTART:20250309T080000
END:DAYLIGHT
BEGIN:STANDARD
TZOFFSETFROM:-0500
TZOFFSETTO:-0600
TZNAME:CST
DTSTART:20251102T070000
END:STANDARD
END:VTIMEZONE
BEGIN:VEVENT
DTSTART;TZID=America/Chicago:20240615T100000
DTEND;TZID=America/Chicago:20240615T130000
DTSTAMP:20260420T135439
CREATED:20240529T160325Z
LAST-MODIFIED:20240529T160325Z
UID:14145-1718445600-1718456400@wicancer.org
SUMMARY:Father’s Day/Juneteenth PROSTATE SCREENING & Education EXPO
DESCRIPTION:Join us to raise awareness about prostate cancer and provide crucial health screenings for\nmen in our community. We will be offering a FREE 7-point men’s easy blood screening\nincluding PSA\, Testosterone\, Cholesterol\, Triglycerides\, HDL\, LDL\, and Glucose. Lunch and\nthe latest information about prostate cancer will also be provided! Empowering men with\nessential health information and encouraging proactive steps towards a healthier lifestyle. \nView Flyer Here! \nSaturday\, June 15\nUrban League of Greater Madison\n2222 S. Park St.\, Suite 200\, Madison\, WI 53713\n10 a.m.-1 p.m. Registration & Men’s Health Screening\n(testing will be entire time)\n11:30 a.m. Gary Davis\, Advocate & Survivor\n11:35 a.m. Dr. Hampton\, The Importance of Primary Care\n11:45 a.m. Dr. McNeel\, Prostate Cancer Treatment Options\n& Genetic Testing\nNoon Dr. Grimes\, Life After Prostate Cancer\n12:20 p.m. Dr. McNeel\, New Treatments\n12:35 p.m. Amber Schauf\, Clinical Trials\n12:45 p.m. Discussion and Q&A
URL:https://wicancer.org/event/fathers-day-juneteenth-prostate-screening-education-expo/
END:VEVENT
END:VCALENDAR