BEGIN:VCALENDAR
VERSION:2.0
PRODID:-//Wisconsin Cancer Collaborative - ECPv6.15.20//NONSGML v1.0//EN
CALSCALE:GREGORIAN
METHOD:PUBLISH
X-ORIGINAL-URL:https://wicancer.org
X-WR-CALDESC:Events for Wisconsin Cancer Collaborative
REFRESH-INTERVAL;VALUE=DURATION:PT1H
X-Robots-Tag:noindex
X-PUBLISHED-TTL:PT1H
BEGIN:VTIMEZONE
TZID:America/Chicago
BEGIN:DAYLIGHT
TZOFFSETFROM:-0600
TZOFFSETTO:-0500
TZNAME:CDT
DTSTART:20230312T080000
END:DAYLIGHT
BEGIN:STANDARD
TZOFFSETFROM:-0500
TZOFFSETTO:-0600
TZNAME:CST
DTSTART:20231105T070000
END:STANDARD
BEGIN:DAYLIGHT
TZOFFSETFROM:-0600
TZOFFSETTO:-0500
TZNAME:CDT
DTSTART:20240310T080000
END:DAYLIGHT
BEGIN:STANDARD
TZOFFSETFROM:-0500
TZOFFSETTO:-0600
TZNAME:CST
DTSTART:20241103T070000
END:STANDARD
BEGIN:DAYLIGHT
TZOFFSETFROM:-0600
TZOFFSETTO:-0500
TZNAME:CDT
DTSTART:20250309T080000
END:DAYLIGHT
BEGIN:STANDARD
TZOFFSETFROM:-0500
TZOFFSETTO:-0600
TZNAME:CST
DTSTART:20251102T070000
END:STANDARD
END:VTIMEZONE
BEGIN:VEVENT
DTSTART;TZID=America/Chicago:20240603T080000
DTEND;TZID=America/Chicago:20240605T170000
DTSTAMP:20260420T135442
CREATED:20231219T155413Z
LAST-MODIFIED:20231219T155413Z
UID:13712-1717401600-1717606800@wicancer.org
SUMMARY:International Death\, Grief\, and Bereavement Conference
DESCRIPTION:2024 Conference will provide opportunities for you to: \n\n\n\n    •\nExamine \nhow our diverse backgrounds impact end of life care and the grieving process\n\n\n    •\nUnderstand \nhow our relationship to grief changes throughout the lifespan\n\n\n    •\nBetter understand \nthe intersection between diversity—in all its forms—and death\, dying and bereavement
URL:https://wicancer.org/event/international-death-grief-and-bereavement-conference/
LOCATION:La Crosse\, WI
END:VEVENT
END:VCALENDAR