BEGIN:VCALENDAR
VERSION:2.0
PRODID:-//Wisconsin Cancer Collaborative - ECPv6.15.20//NONSGML v1.0//EN
CALSCALE:GREGORIAN
METHOD:PUBLISH
X-WR-CALNAME:Wisconsin Cancer Collaborative
X-ORIGINAL-URL:https://wicancer.org
X-WR-CALDESC:Events for Wisconsin Cancer Collaborative
REFRESH-INTERVAL;VALUE=DURATION:PT1H
X-Robots-Tag:noindex
X-PUBLISHED-TTL:PT1H
BEGIN:VTIMEZONE
TZID:America/Chicago
BEGIN:DAYLIGHT
TZOFFSETFROM:-0600
TZOFFSETTO:-0500
TZNAME:CDT
DTSTART:20230312T080000
END:DAYLIGHT
BEGIN:STANDARD
TZOFFSETFROM:-0500
TZOFFSETTO:-0600
TZNAME:CST
DTSTART:20231105T070000
END:STANDARD
BEGIN:DAYLIGHT
TZOFFSETFROM:-0600
TZOFFSETTO:-0500
TZNAME:CDT
DTSTART:20240310T080000
END:DAYLIGHT
BEGIN:STANDARD
TZOFFSETFROM:-0500
TZOFFSETTO:-0600
TZNAME:CST
DTSTART:20241103T070000
END:STANDARD
BEGIN:DAYLIGHT
TZOFFSETFROM:-0600
TZOFFSETTO:-0500
TZNAME:CDT
DTSTART:20250309T080000
END:DAYLIGHT
BEGIN:STANDARD
TZOFFSETFROM:-0500
TZOFFSETTO:-0600
TZNAME:CST
DTSTART:20251102T070000
END:STANDARD
END:VTIMEZONE
BEGIN:VEVENT
DTSTART;TZID=America/Chicago:20240411T180000
DTEND;TZID=America/Chicago:20240411T200000
DTSTAMP:20260420T151414
CREATED:20240322T132817Z
LAST-MODIFIED:20240322T132817Z
UID:13983-1712858400-1712865600@wicancer.org
SUMMARY:Blood Cancer in the Black Community
DESCRIPTION:Blood Cancer in the Black Community\nApril 11\, 2024 6-8 PM\n\nThe Leukemia & Lymphoma Society invites people to participate in their FREE education program and dinner at The Sherman Phoenix\, in Milwaukee. \nDuring this program\, participants will learn about health equity and overcoming barriers to healthcare. Participants will learn about specific types of blood cancers that are more common in the Black community\, including myeloma\, and guide participants through the treatment process. \n\n\n\nRegistration: Welcome (eventscloud.com)
URL:https://wicancer.org/event/blood-cancer-in-the-black-community/
END:VEVENT
END:VCALENDAR