BEGIN:VCALENDAR
VERSION:2.0
PRODID:-//Wisconsin Cancer Collaborative - ECPv6.15.20//NONSGML v1.0//EN
CALSCALE:GREGORIAN
METHOD:PUBLISH
X-ORIGINAL-URL:https://wicancer.org
X-WR-CALDESC:Events for Wisconsin Cancer Collaborative
REFRESH-INTERVAL;VALUE=DURATION:PT1H
X-Robots-Tag:noindex
X-PUBLISHED-TTL:PT1H
BEGIN:VTIMEZONE
TZID:America/Chicago
BEGIN:DAYLIGHT
TZOFFSETFROM:-0600
TZOFFSETTO:-0500
TZNAME:CDT
DTSTART:20220313T080000
END:DAYLIGHT
BEGIN:STANDARD
TZOFFSETFROM:-0500
TZOFFSETTO:-0600
TZNAME:CST
DTSTART:20221106T070000
END:STANDARD
BEGIN:DAYLIGHT
TZOFFSETFROM:-0600
TZOFFSETTO:-0500
TZNAME:CDT
DTSTART:20230312T080000
END:DAYLIGHT
BEGIN:STANDARD
TZOFFSETFROM:-0500
TZOFFSETTO:-0600
TZNAME:CST
DTSTART:20231105T070000
END:STANDARD
BEGIN:DAYLIGHT
TZOFFSETFROM:-0600
TZOFFSETTO:-0500
TZNAME:CDT
DTSTART:20240310T080000
END:DAYLIGHT
BEGIN:STANDARD
TZOFFSETFROM:-0500
TZOFFSETTO:-0600
TZNAME:CST
DTSTART:20241103T070000
END:STANDARD
END:VTIMEZONE
BEGIN:VEVENT
DTSTART;TZID=America/Chicago:20231108T143000
DTEND;TZID=America/Chicago:20231108T154500
DTSTAMP:20260420T221414
CREATED:20231003T140954Z
LAST-MODIFIED:20231003T140954Z
UID:13331-1699453800-1699458300@wicancer.org
SUMMARY:Here’s the Evidence Panorama
DESCRIPTION:Patient Navigation is a proven evidenced-based intervention contributing to the reduction of health care disparities and the improvement of health equity across the cancer care continuum. Yet sustainability of oncology patient navigation programs remains a challenge. The ACS National Navigation Roundtable is hosting a Call to Action webinar series examining barriers\, standards\, and sustainability of oncology patient navigation. \n\nHere’s the Evidence Panorama on Wednesday\, November 8\, 2023  from 3:30 pm – 4:45 pm ET\nPursuing Patient Navigation Policy Landscape on Thursday\, December 6\, 2023 from 2:00 pm – 3:15 pm ET\n\nRegistration: https://us02web.zoom.us/webinar/register/WN_fU_TNUa1S4yS8RYgCCEbag#/registration
URL:https://wicancer.org/event/heres-the-evidence-panorama/
LOCATION:Webinar/Web Conference
END:VEVENT
BEGIN:VEVENT
DTSTART;TZID=America/Chicago:20231108T173000
DTEND;TZID=America/Chicago:20231108T183000
DTSTAMP:20260420T221414
CREATED:20230807T123934Z
LAST-MODIFIED:20230807T124648Z
UID:13051-1699464600-1699468200@wicancer.org
SUMMARY:Freshstart Smoking Cessation
DESCRIPTION:Are You Ready to Quit Smoking? \nThe American Cancer Society Freshstart ® program is a free\, 4 week group based smoking cessation program offered by Advocate Aurora Health Care. Anyone who wants to quit using tobacco can participate in Freshstart . The primary goal of Freshstart is to help you plan a successful quit attempt by teaching you effective ways to overcome nicotine dependence. The information\, activities and discussion topics will help you discover why you smoke and provide tools to help you quit. \nJoin today and create a personal quit plan with others like you who understand the challenges of trying to quit smoking!\nRegister in advance for a 4 week session: https://aurora.org/smokefree \nWhen:\nFall Session ( Day ) Tuesdays 10/3\, 10/10\, 10/17\, 10/24\nMeeting time Noon-1:00pm via ZOOM \nFall\nSession ( Evening) Wednesdays 10/18\, 10/25\, 11/1\, 11/8\nMeeting time 5:30pm-6:30pm via ZOOM\nAfter registering\, you will receive a confirmation email containing
URL:https://wicancer.org/event/freshstart-smoking-cessation-8/
LOCATION:Webinar/Web Conference
END:VEVENT
END:VCALENDAR